BEGIN:VCALENDAR
VERSION:2.0
PRODID:-//ChamberMaster//Event Calendar 2.0//EN
METHOD:PUBLISH
X-PUBLISHED-TTL:P3D
REFRESH-INTERVAL:P3D
CALSCALE:GREGORIAN
BEGIN:VEVENT
DTSTART:20190619T210000Z
DTEND:20190619T230000Z
X-MICROSOFT-CDO-ALLDAYEVENT:FALSE
SUMMARY:Women's Leadership Coalition - Summer Social
DESCRIPTION:Join us on Wednesday\, June 19\, 2019\, as we host the Annual Women's Leadership Coalition Summer Social being held from 5-7 p.m. at Redbud Commons (off Diley Rd.)  This event will feature opportunities to connect with your fellow members\, meet new connections\, share and celebrate!  \n\n\n\nCome and check out this NEW community\, play some games\, have some fun\, share some laughs\, and enjoy some refreshments!  \n\n\n\nThis event is FREE to attend\, but please RSVP so that we know how many to plan for.  We look forward to seeing you!
X-ALT-DESC;FMTTYPE=text/html:<br />\nJoin us on <strong>Wednesday\, June 19\, 2019</strong>\, as we host the <strong>Annual Women&#39\;s Leadership Coalition Summer Social </strong>being held from <strong>5-7 p.m. at <a href="https://www.trepluscommunities.com/community/redbud-commons">Redbud Commons</a> </strong>(off Diley Rd.)&nbsp\; This event will feature opportunities to connect with your fellow members\, meet new connections\, share and celebrate!&nbsp\;&nbsp\;<br />\n<br />\nCome and check out this NEW community\, play some games\, have some fun\, share some laughs\, and enjoy some refreshments!&nbsp\;&nbsp\;<br />\n<br />\nThis event is FREE to attend\, but please RSVP so that we know how many to plan for.&nbsp\; We look forward to seeing you!<br />\n<br />\n&nbsp\;
LOCATION:Redbud Commons 602 Redbud Rd. Pickerington\, OH
UID:e.1451.12904
SEQUENCE:3
DTSTAMP:20260425T115843Z
URL:https://www.pickeringtonchamber.com/events/details/women-s-leadership-coalition-summer-social-12904
END:VEVENT

END:VCALENDAR
