BEGIN:VCALENDAR
VERSION:2.0
PRODID:-//ChamberMaster//Event Calendar 2.0//EN
METHOD:PUBLISH
X-PUBLISHED-TTL:P3D
REFRESH-INTERVAL:P3D
CALSCALE:GREGORIAN
BEGIN:VEVENT
DTSTART:20210305T140000Z
DTEND:20210305T153000Z
X-MICROSOFT-CDO-ALLDAYEVENT:FALSE
SUMMARY:Women's Leadership Coalition - "Radical Gratitude"
DESCRIPTION:Join us on Friday\, March 5\, 2021\, from 9-10:30 a.m. as we host our next "virtual" Women's Leadership Coalition meeting of the new year.  "Radical Gratitude" is our topic and Carrie Verrocchio is our fabulous speaker!  \n\n\n\nDuring this event\, you will learn:\n\n	Practicing gratitude reduces stress and invites better sleep\n	Practicing gratitude improves productivity\n	Practicing gratitude eliminates the comparison trap\n\n\n\nWe will talk present gratitude\, future gratitude\, and written gratitude!\n\n\n\nCarrie Verrocchio is a motivational speaker\, author\, podcaster\, and certified transformation\, forgiveness\, and REBT coach.  She helps those who have forgotten how to dream\, overcome their excuses and live the life they were created to live.  \n\n\n\nShe is the founder of the Radical Empowerment Method\, an online program designed to walk people through the exact method she herself used to move from a life of feeling invisible to a life of empowered success and action.
X-ALT-DESC;FMTTYPE=text/html:<br />\nJoin us on <strong>Friday\, March 5\, 2021\, </strong>from <strong>9-10:30 a.m. </strong>as we host our next &quot\;virtual&quot\; <strong>Women&#39\;s Leadership Coalition </strong>meeting of the new year.&nbsp\; <strong>&quot\;Radical Gratitude&quot\;</strong> is our topic and <strong>Carrie Verrocchio </strong>is our fabulous speaker!&nbsp\;&nbsp\;<br />\n<br />\nDuring this event\, you will learn:\n<ul>\n	<li>Practicing gratitude reduces stress and invites better sleep</li>\n	<li>Practicing gratitude improves productivity</li>\n	<li>Practicing gratitude eliminates the comparison trap</li>\n</ul>\n<br />\nWe will talk present gratitude\, future gratitude\, and written gratitude!<br />\n<br />\nCarrie Verrocchio is a motivational speaker\, author\, podcaster\, and certified transformation\, forgiveness\, and REBT coach.&nbsp\; She helps those who have forgotten how to dream\, overcome their excuses and live the life they were created to live.&nbsp\;&nbsp\;<br />\n<br />\nShe is the founder of the Radical Empowerment Method\, an online program designed to walk people through the exact method she herself used to move from a life of feeling invisible to a life of empowered success and action.<br />\n&nbsp\;
LOCATION:From the comfort of your home/office!
UID:e.1451.14870
SEQUENCE:3
DTSTAMP:20260422T070404Z
URL:https://www.pickeringtonchamber.com/events/details/women-s-leadership-coalition-radical-gratitude-14870
END:VEVENT

END:VCALENDAR
