BEGIN:VCALENDAR
VERSION:2.0
PRODID:-//ChamberMaster//Event Calendar 2.0//EN
METHOD:PUBLISH
X-PUBLISHED-TTL:P3D
REFRESH-INTERVAL:P3D
CALSCALE:GREGORIAN
BEGIN:VEVENT
DTSTART:20190208T130000Z
DTEND:20190208T143000Z
X-MICROSOFT-CDO-ALLDAYEVENT:FALSE
SUMMARY:Women's Leadership Coalition - "Grow Your Sales Immediately"
DESCRIPTION:"Grow Your Sales\, Immediately!"\n\n\n\nJoin us on Friday\, February 8\, 2019\, as we bring in Karla Lewis\, Certified Sales Coach with Southweswtern Consulting\, to conduct an advanced sales workshop!\n\n\n\nIn this high-energy session\, you will learn:\n\n	Ideas for creating an unlimited referral based business\n	Habits for developing a top producer mindset to help keep yourself motivated every day\n	A strategy for creating a sense of urgency and getting clients to a more efficient clost\n	What coaching looks like and how it can help you increase your commissions\n\nKarla has a 30+ year sales track record always being a top producer.  She is most interested in helping people who want to take their lives and careers to the next level and help them become the most MARVELous version of themselves!\n\n\n\nTypically held on the first Friday of the month (some exceptions)\, this event provides a great opportunity to make new business connections\, hear from a top-notch speaker sharing relevant business advice\, and sharing information about YOUR business.  \n\n\n\nThese events are free to attend and open to any Chamber member or guest interested in attending.  RSVP's are suggested.
X-ALT-DESC;FMTTYPE=text/html:<br />\n<strong>&quot\;Grow Your Sales\, Immediately!&quot\;</strong><br />\n<br />\nJoin us on <strong>Friday\, February 8\, 2019\,</strong> as we bring in <strong>Karla Lewis</strong>\, Certified Sales Coach with Southweswtern Consulting\, to conduct an advanced sales workshop!<br />\n<br />\nIn this high-energy session\, you will learn:\n<ul>\n	<li>Ideas for creating an unlimited referral based business</li>\n	<li>Habits for developing a top producer mindset to help keep yourself motivated every day</li>\n	<li>A strategy for creating a sense of urgency and getting clients to a more efficient clost</li>\n	<li>What coaching looks like and how it can help you increase your commissions</li>\n</ul>\nKarla has a 30+ year sales track record always being a top producer.&nbsp\; She is most interested in helping people who want to take their lives and careers to the next level and help them become the most MARVELous version of themselves!<br />\n<br />\nTypically held on the first Friday of the month (some exceptions)\, this event provides a great opportunity to make new business connections\, hear from a top-notch speaker sharing relevant business advice\, and sharing information about YOUR business.&nbsp\;&nbsp\;<br />\n<br />\nThese events are free to attend and open to any Chamber member or guest interested in attending.&nbsp\; RSVP&#39\;s are suggested.
LOCATION:Wesley Ridge Retirement Community 2225 Taylor Park Reynoldsburg\, OH
UID:e.1451.12545
SEQUENCE:3
DTSTAMP:20260425T185119Z
URL:https://www.pickeringtonchamber.com/events/details/women-s-leadership-coalition-grow-your-sales-immediately-12545
END:VEVENT

END:VCALENDAR
