BEGIN:VCALENDAR
VERSION:2.0
PRODID:-//ChamberMaster//Event Calendar 2.0//EN
METHOD:PUBLISH
X-PUBLISHED-TTL:P3D
REFRESH-INTERVAL:P3D
CALSCALE:GREGORIAN
BEGIN:VEVENT
DTSTART:20190503T120000Z
DTEND:20190503T133000Z
X-MICROSOFT-CDO-ALLDAYEVENT:FALSE
SUMMARY:Women's Leadership Coalition
DESCRIPTION:Join us on Friday\, May 3\, 2019\, as Dr. Liz Tuttle\, with Columbus Wellness Medicine\, presents "A Healthier YOU"!  In today's society we face tremendous stress\, processed food\, environmental toxins and a more sedentary lifestyle.  Dr. Tuttle uses a functional medical approach to assist with anti-aging and regenerative medicine.  By treating medical issues in this way\, she can unravel the medical mysteries that often plaque patients and correct core health problems as we age.  \n\n\n\nDuring this presentation you will learn:\n\n	Exercise-how it regenerates the body and brain\n	Healthy eating (and hydrating)   how it impacts our daily lives\n	De-stressing   how to stay focused   can't always change stressor\, but can change how we let it impact us\n	Sleep quality and quantity   makes life easier to handle\n\nTypically held on the first Friday of the month (some exceptions)\, this event provides a great opportunity to make new business connections\, hear from a top-notch speaker sharing relevant business advice\, and sharing information about YOUR business.  \n\n\n\nThese events are free to attend and open to any Chamber member or guest interested in attending.  RSVP's are suggested.
X-ALT-DESC;FMTTYPE=text/html:<br />\nJoin us on <strong>Friday\, May 3\, 2019</strong>\, as <strong>Dr. Liz Tuttle</strong>\, with Columbus Wellness Medicine\, presents<strong> &quot\;A Healthier YOU&quot\;!&nbsp\; </strong>In today&#39\;s society we face tremendous stress\, processed food\, environmental toxins and a more sedentary lifestyle.&nbsp\; Dr. Tuttle uses a functional medical approach to assist with anti-aging and regenerative medicine.&nbsp\; By treating medical issues in this way\, she can unravel the medical mysteries that often plaque patients and correct core health problems as we age.&nbsp\;&nbsp\;<br />\n<br />\nDuring this presentation you will learn:\n<ol>\n	<li style="color:#222222\;margin-bottom:0in\;margin-bottom:.0001pt\;line-height:normal\;background:white\;">Exercise-how it regenerates the body and brain</li>\n	<li style="color:#222222\;margin-bottom:0in\;margin-bottom:.0001pt\;line-height:normal\;background:white\;">Healthy eating (and hydrating) &ndash\; how it impacts our daily lives</li>\n	<li style="color:#222222\;margin-bottom:0in\;margin-bottom:.0001pt\;line-height:normal\;background:white\;">De-stressing &ndash\; how to stay focused &ndash\; can&rsquo\;t always change stressor\, but can change how we let it impact us</li>\n	<li style="color:#222222\;margin-bottom:0in\;margin-bottom:.0001pt\;line-height:normal\;background:white\;">Sleep quality and quantity &ndash\; makes life easier to handle</li>\n</ol>\nTypically held on the first Friday of the month (some exceptions)\, this event provides a great opportunity to make new business connections\, hear from a top-notch speaker sharing relevant business advice\, and sharing information about YOUR business.&nbsp\;&nbsp\;<br />\n<br />\nThese events are free to attend and open to any Chamber member or guest interested in attending.&nbsp\; RSVP&#39\;s are suggested.
LOCATION:OhioHealth 1010 Refugee Rd. (1st Floor Meeting Room) Pickerington\, OH
UID:e.1451.12548
SEQUENCE:3
DTSTAMP:20260425T133837Z
URL:https://www.pickeringtonchamber.com/events/details/women-s-leadership-coalition-05-03-2019-12548
END:VEVENT

END:VCALENDAR
