BEGIN:VCALENDAR
VERSION:2.0
PRODID:-//ChamberMaster//Event Calendar 2.0//EN
METHOD:PUBLISH
X-PUBLISHED-TTL:P3D
REFRESH-INTERVAL:P3D
CALSCALE:GREGORIAN
BEGIN:VEVENT
DTSTART:20190405T120000Z
DTEND:20190405T133000Z
X-MICROSOFT-CDO-ALLDAYEVENT:FALSE
SUMMARY:Women's Leadership Coalition
DESCRIPTION:Join us as we discuss "How to Break the 12 Habits Holding You Back for Achieving your Goals!"    \n\n\n\nThe very habits that helped women early in their careers can hinder them as they move up. Simply put\, what got you here won't get you there . . . and you might not even realize your blind spots until it's too late. \n\n\n\nAre you great with the details?  Are you a team player?  Are you a star networker?\n\n\n\nDidn't have time to read the book?  That's okay\, this is open to all WLC members.\n\n\n\nTypically held on the first Friday of the month (some exceptions)\, this event provides a great opportunity to make new business connections\, hear from a top-notch speaker sharing relevant business advice\, and sharing information about YOUR business.  \n\n\n\nThese events are free to attend and open to any Chamber member or guest interested in attending.  RSVP's are suggested.
X-ALT-DESC;FMTTYPE=text/html:<br />\nJoin us as we discuss &quot\;How to Break the 12 Habits Holding You Back for Achieving your Goals!&quot\;&nbsp\; &nbsp\;&nbsp\;<br />\n<br />\n<span style="font-family: Arial\, sans-serif\; font-size: 14px\;">The very habits that helped women early in their careers can hinder them as they move up. Simply put\, what got you here won&#39\;t get you there . . . and you might not even realize your blind spots until it&#39\;s too late.&nbsp\;</span><br />\n<br />\n<b style="font-family: Arial\, sans-serif\; font-size: 14px\;">Are you great with the details?&nbsp\; Are you a team player?&nbsp\; Are you a star networker?</b><br />\n<br />\nDidn&#39\;t have time to read the book?&nbsp\; That&#39\;s okay\, this is open to all WLC members.<br />\n<br />\nTypically held on the first Friday of the month (some exceptions)\, this event provides a great opportunity to make new business connections\, hear from a top-notch speaker sharing relevant business advice\, and sharing information about YOUR business.&nbsp\;&nbsp\;<br />\n<br />\nThese events are free to attend and open to any Chamber member or guest interested in attending.&nbsp\; RSVP&#39\;s are suggested.
LOCATION:Pickerington Public Library Sycamore Branch 7861 Refugee Rd. Pickerington
UID:e.1451.12547
SEQUENCE:3
DTSTAMP:20260425T151112Z
URL:https://www.pickeringtonchamber.com/events/details/women-s-leadership-coalition-04-05-2019-12547
END:VEVENT

END:VCALENDAR
