BEGIN:VCALENDAR
VERSION:2.0
PRODID:-//ChamberMaster//Event Calendar 2.0//EN
METHOD:PUBLISH
X-PUBLISHED-TTL:P3D
REFRESH-INTERVAL:P3D
CALSCALE:GREGORIAN
BEGIN:VEVENT
DTSTART:20130607T120000Z
DTEND:20130607T130000Z
X-MICROSOFT-CDO-ALLDAYEVENT:FALSE
SUMMARY:WLC Meeting
DESCRIPTION:Women's Leadership Coalition\n\nHostess:  Andrea Watros
X-ALT-DESC;FMTTYPE=text/html:Women&#39\;s Leadership Coalition<br />\nHostess:&nbsp\; Andrea Watros
LOCATION:Coldstone Creamery & Rocky Mountain Chocolate Factory 1718 Hill Road Pickerington
UID:e.1451.567
SEQUENCE:3
DTSTAMP:20260425T203800Z
URL:https://www.pickeringtonchamber.com/events/details/wlc-meeting-06-07-2013-567
END:VEVENT

END:VCALENDAR
