BEGIN:VCALENDAR
VERSION:2.0
PRODID:-//ChamberMaster//Event Calendar 2.0//EN
METHOD:PUBLISH
X-PUBLISHED-TTL:P3D
REFRESH-INTERVAL:P3D
CALSCALE:GREGORIAN
BEGIN:VEVENT
DTSTART:20130405T120000Z
DTEND:20130405T130000Z
X-MICROSOFT-CDO-ALLDAYEVENT:FALSE
SUMMARY:WLC Meeting
DESCRIPTION:Women's Leadership Coalition\n\nMonthly meeting\n\nThis month's topic:\n\nNetworking - presented by PACC membership director\, Jen Dear
X-ALT-DESC;FMTTYPE=text/html:Women&#39\;s Leadership Coalition<br />\nMonthly meeting<br />\nThis month&#39\;s topic:<br />\n<strong>Networking - presented by PACC membership director\, Jen Dear</strong><br />\n
LOCATION:Wesley Ridge 2225 Taylor Park Drive Reynoldsburg Hostess: Africa Thomas
UID:e.1451.565
SEQUENCE:3
DTSTAMP:20260424T113716Z
URL:https://www.pickeringtonchamber.com/events/details/wlc-meeting-04-05-2013-565
END:VEVENT

END:VCALENDAR
