BEGIN:VCALENDAR
VERSION:2.0
PRODID:-//ChamberMaster//Event Calendar 2.0//EN
METHOD:PUBLISH
X-PUBLISHED-TTL:P3D
REFRESH-INTERVAL:P3D
CALSCALE:GREGORIAN
BEGIN:VEVENT
DTSTART:20130301T130000Z
DTEND:20130301T140000Z
X-MICROSOFT-CDO-ALLDAYEVENT:FALSE
SUMMARY:WLC Meeting
DESCRIPTION:Women's Leadership Coalition\n\n	New Format - All Business Women Welcome!\n\n	\n\n	Kristal & Forche Orthodontics\, 130 W. Columbus Street hosted by Alison Forche
X-ALT-DESC;FMTTYPE=text/html:<p>\n	<strong>Women&#39\;s Leadership Coalition<br />\n	New Format - All Business Women Welcome!<br />\n	<br />\n	Kristal &amp\; Forche Orthodontics\, 130 W. Columbus Street</strong>&nbsp\;hosted by Alison Forche<br />\n	&nbsp\;</p>\n
LOCATION:
UID:e.1451.564
SEQUENCE:3
DTSTAMP:20260425T123024Z
URL:https://www.pickeringtonchamber.com/events/details/wlc-meeting-03-01-2013-564
END:VEVENT

END:VCALENDAR
