BEGIN:VCALENDAR
VERSION:2.0
PRODID:-//ChamberMaster//Event Calendar 2.0//EN
METHOD:PUBLISH
X-PUBLISHED-TTL:P3D
REFRESH-INTERVAL:P3D
CALSCALE:GREGORIAN
BEGIN:VEVENT
DTSTART:20130201T130000Z
DTEND:20130201T140000Z
X-MICROSOFT-CDO-ALLDAYEVENT:FALSE
SUMMARY:WLC Meeting
DESCRIPTION:Women's Leadership Coalition
X-ALT-DESC;FMTTYPE=text/html:Women&#39\;s Leadership Coalition
LOCATION:Trinity Wellness Center 80 W. Church St. Pickerington\, Ohio hostess- Erica Mergel
UID:e.1451.563
SEQUENCE:3
DTSTAMP:20260424T200945Z
URL:https://www.pickeringtonchamber.com/events/details/wlc-meeting-02-01-2013-563
END:VEVENT

END:VCALENDAR
