BEGIN:VCALENDAR
VERSION:2.0
PRODID:-//ChamberMaster//Event Calendar 2.0//EN
METHOD:PUBLISH
X-PUBLISHED-TTL:P3D
REFRESH-INTERVAL:P3D
CALSCALE:GREGORIAN
BEGIN:VEVENT
DTSTART:20130529T171500Z
DTEND:20130529T181500Z
X-MICROSOFT-CDO-ALLDAYEVENT:FALSE
SUMMARY:Website 101 Lunch & Learn Session 2
DESCRIPTION:Website 101\n\n\n\n information you can use to manage and market your online profile \n\n\n\nJoin us for a special Members Only Lunch & Learn which will provide a hands-on opportunity to edit\, optimize and manage the online features that come free with your PACC Membership.\n\n	\n		Increase search results (SEO) with simple site functions\n	\n		Learn ways to enhance your site (and Web) presence\n	\n		Optimize your member listing and profile\n	\n		and much much more - from features you already have!
X-ALT-DESC;FMTTYPE=text/html:Website 101<br />\n<br />\n&lt\;information you can use to manage and market your online profile&gt\;<br />\n<br />\nJoin us for a special Members Only&nbsp\;Lunch &amp\; Learn which will provide a hands-on opportunity to edit\, optimize and manage the online features <strong>that come free </strong>with your PACC Membership.\n<ul>\n	<li>\n		Increase&nbsp\;search results (SEO) with simple site functions</li>\n	<li>\n		Learn ways to enhance your site (and Web) presence</li>\n	<li>\n		Optimize your member listing and profile</li>\n	<li>\n		and much much more - from features you already have!</li>\n</ul>\n
LOCATION:PACC Office 13 W Columbus St Pickerington\, OH 43147
UID:e.1451.1150
SEQUENCE:3
DTSTAMP:20260421T064714Z
URL:https://www.pickeringtonchamber.com/events/details/website-101-lunch-learn-session-2-05-29-2013-1150
END:VEVENT

END:VCALENDAR
