BEGIN:VCALENDAR
VERSION:2.0
PRODID:-//ChamberMaster//Event Calendar 2.0//EN
METHOD:PUBLISH
X-PUBLISHED-TTL:P3D
REFRESH-INTERVAL:P3D
CALSCALE:GREGORIAN
BEGIN:VEVENT
DTSTART:20130529T160000Z
DTEND:20130529T170000Z
X-MICROSOFT-CDO-ALLDAYEVENT:FALSE
SUMMARY:Website 101 Lunch & Learn
DESCRIPTION:THIS SESSION IS FULL.  PLEASE REGISTER FOR THE SECOND SESSION TO BE HELD ON 5/29 FROM 1:15-2:15PM.\n\n\n\n\n\nWebsite 101\n\n information you can use to manage and market your online profile \n\n\n\nBring your laptop or tablet* and join us for a special Members Lunch & Learn which will provide hands-on opportunity to edit\, optimize and manage the online features that come free with your PACC membership.\n\n	\n		Edit your online directory listing\n	\n		Increase search results (SEO) with simple site functions\n	\n		Learn ways to enhance your site (and Web) presence\n	\n		Optimize your member profile\n	\n		Plus! Ask experts how to best market your company online\n\n\n\n. . . and Much More - form features you already have!\n\n\n\nRSVP by May 24th at Noon\n\n\n\n\n\n\n\n*If you do not have a laptop or tablet\, please contact the PACC staff when making your reservation so that special accommodations can be made.
X-ALT-DESC;FMTTYPE=text/html:<br />\n<strong><font color="#ff0000" size="3">THIS SESSION IS FULL.&nbsp\; PLEASE REGISTER FOR THE SECOND SESSION TO BE HELD ON 5/29 FROM 1:15-2:15PM.</font></strong><br />\n<br />\n<br />\nWebsite 101<br />\n&lt\;information you can use to manage and market your online profile&gt\;<br />\n<br />\nBring your laptop or tablet* and join us for a special Members Lunch &amp\; Learn which will provide hands-on opportunity to edit\, optimize and manage the online features <strong>that come free </strong>with your PACC membership.\n<ul>\n	<li>\n		Edit your online directory listing</li>\n	<li>\n		Increase search results (SEO) with simple site functions</li>\n	<li>\n		Learn ways to enhance your site (and Web) presence</li>\n	<li>\n		Optimize your member profile</li>\n	<li>\n		Plus! Ask experts how to best market your company online</li>\n</ul>\n<br />\n. . . and Much More - form features you already have!<br />\n<br />\nRSVP by May 24th at Noon<br />\n<br />\n<br />\n<br />\n*If you do not have a laptop or tablet\, please contact the PACC staff when making your reservation so that special accommodations can be made.
LOCATION:PACC Office 13 W Columbus St Pickerington\, OH 43147
UID:e.1451.1141
SEQUENCE:3
DTSTAMP:20260422T032907Z
URL:https://www.pickeringtonchamber.com/events/details/website-101-lunch-learn-05-29-2013-1141
END:VEVENT

END:VCALENDAR
