BEGIN:VCALENDAR
VERSION:2.0
PRODID:-//ChamberMaster//Event Calendar 2.0//EN
METHOD:PUBLISH
X-PUBLISHED-TTL:P3D
REFRESH-INTERVAL:P3D
CALSCALE:GREGORIAN
BEGIN:VEVENT
DTSTART:20190504T140000Z
DTEND:20190504T170000Z
X-MICROSOFT-CDO-ALLDAYEVENT:FALSE
SUMMARY:Tyler's Light 8th Annual 5K Family Fun Run/Walk!
DESCRIPTION:DESCRIPTION\n\n\n\nTake part in the best 5K in Fairfield County and let your participation be your start to "Speaking Up and Saving Lives". Join us on May 4\, 2019\, at Toll Gate Middle School for the 8th Annual Tyler's Light!\n\nTyler's Light's Mission\n\nTo equip our communities and our nation with information and resources to help people choose a drug-free life while providing resources for family members and/or friends who are involved in the battle against addiction.\n\nPhilosophy\n\nThrough community engagement\, awareness\, education and support\; to become a resource for the people of Central Ohio in order to prevent drug addiction. Drugs are in our community in places we least expect them. Drug education and awareness for students\, families\, & communities are essential to combat the epidemic.\n\nSpecial Pricing\n\nChildren aged 18 and under receive special pricing of $15. Family/group pricing for 4 or more registrants together gets each registrant $5 off.\n\n\n\n\n\n\n\nADDITIONAL RACE INFORMATION\n\n\nEarly Packet Pickup\n\nSave time in line on race day and stop by Columbus Running Company's Pickerington Location (1250 Hill Rd N) on Thursday\, May 2 from 10a-8p or Friday\, May 3 from 10a-6p to get your race bag\, t-shirt\, and race number. Race day pickup will also be available at Toll Gate Middle School from 8:30a-9:45a.\n\nParking\n\nThere is plenty of parking at Toll Gate Middle School (12183 Toll Gate Rd Pickerington\, OH US 43147). Please follow directions of all parking volunteers to ensure a smooth process in and out of the school grounds.\n\nAwards\n\n\n	Top 2 male and female overall (1st place finisher receives $100\, 2nd place finisher receives a $50 gift card)\n	Top 2 male and female finishers in each of these categories: 12U\, 13-14\, 15-19\, 20-24\, 25-29\, 30-39\, 40-49\, 50-59\, 60+\n\n\nSwag\n\nYour registration includes a race bag\, race shirt\, bib number\, wristband and more!
X-ALT-DESC;FMTTYPE=text/html:<section class="orderable noBorder" style="margin: 0px\; padding: 0px\; border: 0px\; box-shadow: none\; color: rgb(16\, 99\, 134)\; font-family: Roboto\, sans-serif\; font-size: 13.5px\; background-color: rgb(255\, 255\, 255)\;">\n<div class="panel panel-default" style="margin: 0px 0px 20px\; background-color: transparent\; border-width: 0px 0px 1px\; border-top-style: initial\; border-right-style: initial\; border-bottom-style: dashed\; border-left-style: initial\; border-top-color: initial\; border-right-color: initial\; border-bottom-color: rgb(222\, 222\, 222)\; border-left-color: initial\; border-image: initial\; border-radius: 0px\; box-shadow: none\; padding: 0px 0px 5px\;">\n<div class="panel-heading" style="padding: 0px 0px 10px\; border-width: 0px 0px 2px\; border-bottom-style: none\; border-color: rgb(254\, 148\, 35)\; border-top-right-radius: 3px\; border-top-left-radius: 3px\; color: rgb(254\, 148\, 35)\; background: none\; margin: 0px 0px 15px\;"><span style="font-size:14px\;"><span style="font-family:tahoma\;"><span class="panel-title-bold" style="margin-top: 0px\; margin-bottom: 0px\; text-transform: uppercase\;">DESCRIPTION</span></span></span></div>\n\n<div class="panel-body" style="padding-top: 0px !important\; padding-right: 0px\; padding-bottom: 15px\; padding-left: 0px\; overflow-wrap: break-word\; font-size: 1.1rem\; line-height: 1.6rem\;">\n<div class="tinymceFormatted" id="raceFullDesc">\n<p style="font-size: 1.2rem\; line-height: 1.8rem\; padding: 0px\; margin: 0px 0px 10px\;"><span style="font-size:14px\;"><span style="font-family:tahoma\;">Take part in the best 5K in Fairfield County and let your participation be your start to &quot\;Speaking Up and Saving Lives&quot\;. Join us on May 4\, 2019\, at Toll Gate Middle School for the 8th Annual Tyler&#39\;s Light!</span></span></p>\n\n<h3 style="color: rgb(183\, 95\, 1)\; font-family: Roboto\, &quot\;Open Sans&quot\;\, Helvetica\, Arial\, sans-serif\; font-weight: 400\; font-size: 1.5rem\; line-height: normal\; margin: 10px 0px\; border-color: rgb(27\, 163\, 220)\;"><span style="font-size:14px\;"><span style="font-family:tahoma\;">Tyler&#39\;s Light&#39\;s Mission</span></span></h3>\n\n<p style="font-size: 1.2rem\; line-height: 1.8rem\; padding: 0px\; margin: 0px 0px 10px\;"><span style="font-size:14px\;"><span style="font-family:tahoma\;">To&nbsp\;equip our communities and our nation with information and resources to help people choose a drug-free life while providing resources for family members and/or friends who are involved in the battle against addiction.</span></span></p>\n\n<h3 style="color: rgb(183\, 95\, 1)\; font-family: Roboto\, &quot\;Open Sans&quot\;\, Helvetica\, Arial\, sans-serif\; font-weight: 400\; font-size: 1.5rem\; line-height: normal\; margin: 10px 0px\; border-color: rgb(27\, 163\, 220)\;"><span style="font-size:14px\;"><span style="font-family:tahoma\;">Philosophy</span></span></h3>\n\n<p style="font-size: 1.2rem\; line-height: 1.8rem\; padding: 0px\; margin: 0px 0px 10px\;"><span style="font-size:14px\;"><span style="font-family:tahoma\;">Through community engagement\, awareness\, education and support\; to become a resource for the people of Central&nbsp\;Ohio in order to prevent drug addiction. Drugs are in our community in places we least expect them. Drug education and awareness for students\, families\, &amp\; communities&nbsp\;are essential to combat the epidemic.</span></span></p>\n\n<h3 style="color: rgb(183\, 95\, 1)\; font-family: Roboto\, &quot\;Open Sans&quot\;\, Helvetica\, Arial\, sans-serif\; font-weight: 400\; font-size: 1.5rem\; line-height: normal\; margin: 10px 0px\; border-color: rgb(27\, 163\, 220)\;"><span style="font-size:14px\;"><span style="font-family:tahoma\;">Special Pricing</span></span></h3>\n\n<p style="font-size: 1.2rem\; line-height: 1.8rem\; padding: 0px\; margin: 0px 0px 10px\;"><span style="font-size:14px\;"><span style="font-family:tahoma\;">Children aged 18 and under receive special pricing of $15. Family/group pricing for 4 or more registrants together gets each registrant $5 off.</span></span></p>\n</div>\n</div>\n</div>\n</section>\n\n<section class="orderable noBorder" style="margin: 0px\; padding: 0px\; border: 0px\; box-shadow: none\; color: rgb(16\, 99\, 134)\; font-family: Roboto\, sans-serif\; font-size: 13.5px\; background-color: rgb(255\, 255\, 255)\;">\n<div class="panel panel-default" style="margin: 0px 0px 20px\; background-color: transparent\; border-width: 0px 0px 1px\; border-top-style: initial\; border-right-style: initial\; border-bottom-style: dashed\; border-left-style: initial\; border-top-color: initial\; border-right-color: initial\; border-bottom-color: rgb(222\, 222\, 222)\; border-left-color: initial\; border-image: initial\; border-radius: 0px\; box-shadow: none\; padding: 0px 0px 5px\;">\n<div class="panel-heading" style="padding: 0px 0px 10px\; border-width: 0px 0px 2px\; border-bottom-style: none\; border-color: rgb(254\, 148\, 35)\; border-top-right-radius: 3px\; border-top-left-radius: 3px\; color: rgb(254\, 148\, 35)\; background: none\; margin: 0px 0px 15px\;"><span style="font-size:14px\;"><span style="font-family:tahoma\;"><span class="panel-title-bold" style="margin-top: 0px\; margin-bottom: 0px\; text-transform: uppercase\;">ADDITIONAL RACE INFORMATION</span></span></span></div>\n\n<div class="panel-body" style="padding-top: 0px !important\; padding-right: 0px\; padding-bottom: 15px\; padding-left: 0px\; overflow-wrap: break-word\; font-size: 1.1rem\; line-height: 1.6rem\;">\n<h3 style="color: rgb(183\, 95\, 1)\; font-family: Roboto\, &quot\;Open Sans&quot\;\, Helvetica\, Arial\, sans-serif\; font-weight: 400\; font-size: 1.5rem\; line-height: normal\; margin: 10px 0px\; border-color: rgb(27\, 163\, 220)\;"><span style="font-size:14px\;"><span style="font-family:tahoma\;">Early Packet Pickup</span></span></h3>\n\n<p style="font-size: 1.2rem\; line-height: 1.8rem\; padding: 0px\; margin: 0px 0px 10px\;"><span style="font-size:14px\;"><span style="font-family:tahoma\;">Save time in line on race day and stop by&nbsp\;<a href="https://www.google.com/maps/place/1250+Hill+Rd+N\,+Pickerington\,+OH+43147/@39.9149777\,-82.7821901\,17z/data=!3m1!4b1!4m2!3m1!1s0x88387b298517cca9:0x594865c285eed678" rel="noopener noreferrer" style="background-color: transparent\; color: rgb(183\, 95\, 1)\;" target="_blank">Columbus Running Company&#39\;s Pickerington Location (1250 Hill Rd N)</a>&nbsp\;on Thursday\, May 2 from 10a-8p or Friday\, May 3 from 10a-6p to get your race bag\, t-shirt\, and race number. Race day pickup will also be available at Toll Gate Middle School from 8:30a-9:45a.</span></span></p>\n\n<h3 style="color: rgb(183\, 95\, 1)\; font-family: Roboto\, &quot\;Open Sans&quot\;\, Helvetica\, Arial\, sans-serif\; font-weight: 400\; font-size: 1.5rem\; line-height: normal\; margin: 10px 0px\; border-color: rgb(27\, 163\, 220)\;"><span style="font-size:14px\;"><span style="font-family:tahoma\;">Parking</span></span></h3>\n\n<p style="font-size: 1.2rem\; line-height: 1.8rem\; padding: 0px\; margin: 0px 0px 10px\;"><span style="font-size:14px\;"><span style="font-family:tahoma\;">There is plenty of parking at&nbsp\;<a href="https://www.google.com/maps/place/12183+Toll+Gate+Rd\,+Pickerington\,+OH+43147/@39.9107662\,-82.7109378\,17z/data=!4m5!1m2!2m1!1s12183+Toll+Gate+Rd+Pickerington\,+OH+US+43147!3m1!1s0x88387023bf62dc35:0xfbab53ed7f2d9a52" rel="noopener noreferrer" style="background-color: transparent\; color: rgb(183\, 95\, 1)\;" target="_blank">Toll Gate Middle School (12183 Toll Gate Rd Pickerington\, OH US 43147)</a>. Please follow directions of all parking volunteers to ensure a smooth process in and out of the school grounds.</span></span></p>\n\n<h3 style="color: rgb(183\, 95\, 1)\; font-family: Roboto\, &quot\;Open Sans&quot\;\, Helvetica\, Arial\, sans-serif\; font-weight: 400\; font-size: 1.5rem\; line-height: normal\; margin: 10px 0px\; border-color: rgb(27\, 163\, 220)\;"><span style="font-size:14px\;"><span style="font-family:tahoma\;">Awards</span></span></h3>\n\n<ul style="list-style-position: outside\; list-style-image: none\; padding-left: 20px\;">\n	<li><span style="font-size:14px\;"><span style="font-family:tahoma\;">Top 2 male and female overall (1st place finisher receives $100\, 2nd place finisher receives a $50 gift card)</span></span></li>\n	<li><span style="font-size:14px\;"><span style="font-family:tahoma\;">Top 2 male and female finishers in each of these categories: 12U\, 13-14\, 15-19\, 20-24\, 25-29\, 30-39\, 40-49\, 50-59\, 60+</span></span></li>\n</ul>\n\n<h3 style="color: rgb(183\, 95\, 1)\; font-family: Roboto\, &quot\;Open Sans&quot\;\, Helvetica\, Arial\, sans-serif\; font-weight: 400\; font-size: 1.5rem\; line-height: normal\; margin: 10px 0px\; border-color: rgb(27\, 163\, 220)\;"><span style="font-size:14px\;"><span style="font-family:tahoma\;">Swag</span></span></h3>\n\n<p style="font-size: 1.2rem\; line-height: 1.8rem\; padding: 0px\; margin: 0px 0px 10px\;"><span style="font-size:14px\;"><span style="font-family:tahoma\;">Your registration includes a race bag\, race shirt\, bib number\, wristband and more!</span></span></p>\n</div>\n</div>\n</section>\n
LOCATION:Toll Gate Middle School 12183 Toll Gate Rd Pickerington\, OH 43147
UID:e.1451.12701
SEQUENCE:3
DTSTAMP:20260425T170746Z
URL:https://www.pickeringtonchamber.com/events/details/tyler-s-light-8th-annual-5k-family-fun-run-walk-12701
END:VEVENT

END:VCALENDAR
