BEGIN:VCALENDAR
VERSION:2.0
PRODID:-//ChamberMaster//Event Calendar 2.0//EN
METHOD:PUBLISH
X-PUBLISHED-TTL:P3D
REFRESH-INTERVAL:P3D
CALSCALE:GREGORIAN
BEGIN:VEVENT
DTSTART:20190511T140000Z
DTEND:20190511T160000Z
X-MICROSOFT-CDO-ALLDAYEVENT:FALSE
SUMMARY:Touch-A-Truck
DESCRIPTION:Bring your kids to enjoy a variety of big trucks\, cars\, engines and more. You will be able to get up close to check out the big tires\, ask questions about what each vehicle does\, test the driver's seat and even get your own driver's license.\n\n\n\nSponsored by the Pickerington Parks and Recreation Department
X-ALT-DESC;FMTTYPE=text/html:<span style="font-family: Verdana\; font-size: 16.2px\;">Bring your kids to enjoy a variety of big trucks\, cars\, engines and more. You will be able to get up close to check out the big tires\, ask questions about what each vehicle does\, test the driver&#39\;s seat and even get your own driver&#39\;s license.</span><br />\n<br />\nSponsored by the Pickerington Parks and Recreation Department
LOCATION:Pickerington Community Pool 11330 Stonecreek Dr Pickerington\, OH 43147
UID:e.1451.12880
SEQUENCE:3
DTSTAMP:20260419T172809Z
URL:https://www.pickeringtonchamber.com/events/details/touch-a-truck-12880
END:VEVENT

END:VCALENDAR
