BEGIN:VCALENDAR
VERSION:2.0
PRODID:-//ChamberMaster//Event Calendar 2.0//EN
METHOD:PUBLISH
X-PUBLISHED-TTL:P3D
REFRESH-INTERVAL:P3D
CALSCALE:GREGORIAN
BEGIN:VEVENT
DTSTART:20190527T123000Z
DTEND:20190527T143000Z
X-MICROSOFT-CDO-ALLDAYEVENT:FALSE
SUMMARY:Title Boxing - 15 Round Memorial Day Burn-OUT!
DESCRIPTION:Join us for 15 Rounds of Boxing with multiple traininers and exercises to fit every fitness level!  We will include challenges throughout the breaks helping you kick-off your Memorial Day Celebration!  \n\n\n\nChallenges will include:\n\n200 Mountain Climbers\n\n200 Push-ups\n\n200 Squats\n\nAnd more...\n\n\n\nJoin this crazy crew for a fun morning!
X-ALT-DESC;FMTTYPE=text/html:<br />\nJoin us for <strong>15 Rounds of Boxing </strong>with multiple traininers and exercises to fit every fitness level!&nbsp\; We will include challenges throughout the breaks helping you kick-off your Memorial Day Celebration!&nbsp\;&nbsp\;<br />\n<br />\n<u><strong>Challenges will include:</strong></u><br />\n200 Mountain Climbers<br />\n200 Push-ups<br />\n200 Squats<br />\nAnd more...<br />\n<br />\n<strong>Join this crazy crew for a fun morning!</strong>
LOCATION:Title Boxing Club 864 Refugee Rd. Pickerington\, OH 43147
UID:e.1451.13342
SEQUENCE:3
DTSTAMP:20260425T170505Z
URL:https://www.pickeringtonchamber.com/events/details/title-boxing-15-round-memorial-day-burn-out-13342
END:VEVENT

END:VCALENDAR
