BEGIN:VCALENDAR
VERSION:2.0
PRODID:-//ChamberMaster//Event Calendar 2.0//EN
METHOD:PUBLISH
X-PUBLISHED-TTL:P3D
REFRESH-INTERVAL:P3D
CALSCALE:GREGORIAN
BEGIN:VEVENT
DTSTART:20190430T150000Z
DTEND:20190430T170000Z
X-MICROSOFT-CDO-ALLDAYEVENT:FALSE
SUMMARY:State of the County at the Wigwam!
DESCRIPTION:Join Fairfield County\, the Lancaster-Fairfield County Chamber\, Violet Township\, and the Pickerington Area Chamber for the Annual State of the County Address on Tuesday\, April 30\, 2019.  This event will feature an update on the County from County Administrator\, Carri Brown and an update from our County Commissioners as well.  \n\n\n\nAt the close of the meeting\, tours of the Wigwam facility will also be available.
X-ALT-DESC;FMTTYPE=text/html:<br />\nJoin <strong>Fairfield County\, the Lancaster-Fairfield County Chamber\, Violet Township\, and the Pickerington Area Chamber </strong>for the<strong> Annual State of the County Address </strong>on <strong>Tuesday\, April 30\, 2019.</strong>&nbsp\; This event will feature an update on the County from County Administrator\, Carri Brown and an update from our County Commissioners as well.&nbsp\;&nbsp\;<br />\n<br />\nAt the close of the meeting\, tours of the Wigwam facility will also be available.
LOCATION:Wigwam 10190 Blacklick Eastern Rd. Pickerington
UID:e.1451.12847
SEQUENCE:3
DTSTAMP:20260425T163649Z
URL:https://www.pickeringtonchamber.com/events/details/state-of-the-county-at-the-wigwam-12847
END:VEVENT

END:VCALENDAR
