BEGIN:VCALENDAR
VERSION:2.0
PRODID:-//ChamberMaster//Event Calendar 2.0//EN
METHOD:PUBLISH
X-PUBLISHED-TTL:P3D
REFRESH-INTERVAL:P3D
CALSCALE:GREGORIAN
BEGIN:VEVENT
DTSTART:20190409T160000Z
DTEND:20190409T170000Z
X-MICROSOFT-CDO-ALLDAYEVENT:FALSE
SUMMARY:Rob Forche Orthodontics Grand Re-opening
DESCRIPTION:Join us on Tuesday\, April 9\, 2019\, at Noon as we celebrate the Grand Re-Opening of Rob Forche Orthodontics.  Dr. Forche has taken over the full practice after the retirement of Dr. Kristal.  So\, join us in celebrating with a ribbon cutting!
X-ALT-DESC;FMTTYPE=text/html:<br />\n<span style="font-family: Calibri\, Verdana\, Geneva\, sans-serif\; font-size: 16px\;">Join us on&nbsp\;</span><span style="box-sizing: content-box\; font-weight: bolder\; bottom: auto\; clear: none\; content: normal\; direction: inherit\; empty-cells: show\; font-variant-numeric: inherit\; font-variant-east-asian: inherit\; font-stretch: inherit\; font-size: 16px\; font-family: Calibri\, Verdana\, Geneva\, sans-serif\; left: auto\; line-height: inherit\; margin: 0px\; max-height: none\; max-width: none\; min-height: initial\; min-width: initial\; opacity: 1\; outline-offset: 0px\; overflow: visible\; padding: 0px\; position: static\; resize: none\; right: auto\; table-layout: auto\; text-overflow: clip\; top: auto\; vertical-align: baseline\; visibility: inherit\; word-break: inherit\; overflow-wrap: inherit\; z-index: auto\; background-image: none\; background-position: initial\; background-size: initial\; background-repeat: initial\; background-attachment: initial\; background-origin: initial\; background-clip: initial\; border: none\; border-collapse: separate\; border-radius: 0px\; height: auto\; width: auto\; box-shadow: none\;">Tuesday\, April 9\, 2019</span><span style="font-family: Calibri\, Verdana\, Geneva\, sans-serif\; font-size: 16px\;">\, at&nbsp\;</span><span style="box-sizing: content-box\; font-weight: bolder\; bottom: auto\; clear: none\; content: normal\; direction: inherit\; empty-cells: show\; font-variant-numeric: inherit\; font-variant-east-asian: inherit\; font-stretch: inherit\; font-size: 16px\; font-family: Calibri\, Verdana\, Geneva\, sans-serif\; left: auto\; line-height: inherit\; margin: 0px\; max-height: none\; max-width: none\; min-height: initial\; min-width: initial\; opacity: 1\; outline-offset: 0px\; overflow: visible\; padding: 0px\; position: static\; resize: none\; right: auto\; table-layout: auto\; text-overflow: clip\; top: auto\; vertical-align: baseline\; visibility: inherit\; word-break: inherit\; overflow-wrap: inherit\; z-index: auto\; background-image: none\; background-position: initial\; background-size: initial\; background-repeat: initial\; background-attachment: initial\; background-origin: initial\; background-clip: initial\; border: none\; border-collapse: separate\; border-radius: 0px\; height: auto\; width: auto\; box-shadow: none\;">Noon&nbsp\;</span><span style="font-family: Calibri\, Verdana\, Geneva\, sans-serif\; font-size: 16px\;">as we celebrate the&nbsp\;</span><span style="box-sizing: content-box\; font-weight: bolder\; bottom: auto\; clear: none\; content: normal\; direction: inherit\; empty-cells: show\; font-variant-numeric: inherit\; font-variant-east-asian: inherit\; font-stretch: inherit\; font-size: 16px\; font-family: Calibri\, Verdana\, Geneva\, sans-serif\; left: auto\; line-height: inherit\; margin: 0px\; max-height: none\; max-width: none\; min-height: initial\; min-width: initial\; opacity: 1\; outline-offset: 0px\; overflow: visible\; padding: 0px\; position: static\; resize: none\; right: auto\; table-layout: auto\; text-overflow: clip\; top: auto\; vertical-align: baseline\; visibility: inherit\; word-break: inherit\; overflow-wrap: inherit\; z-index: auto\; background-image: none\; background-position: initial\; background-size: initial\; background-repeat: initial\; background-attachment: initial\; background-origin: initial\; background-clip: initial\; border: none\; border-collapse: separate\; border-radius: 0px\; height: auto\; width: auto\; box-shadow: none\;">Grand Re-Opening of Rob Forche Orthodontics.&nbsp\;</span><span style="font-family: Calibri\, Verdana\, Geneva\, sans-serif\; font-size: 16px\;">&nbsp\;Dr. Forche has taken over the full practice after the retirement of Dr. Kristal.&nbsp\; So\, join us in celebrating with a ribbon cutting!</span>
LOCATION:Rob Forche Orthodontics 130 W Columbus St Pickerington\, OH 43147
UID:e.1451.12799
SEQUENCE:3
DTSTAMP:20260425T163640Z
URL:https://www.pickeringtonchamber.com/events/details/rob-forche-orthodontics-grand-re-opening-12799
END:VEVENT

END:VCALENDAR
