BEGIN:VCALENDAR
VERSION:2.0
PRODID:-//ChamberMaster//Event Calendar 2.0//EN
METHOD:PUBLISH
X-PUBLISHED-TTL:P3D
REFRESH-INTERVAL:P3D
CALSCALE:GREGORIAN
BEGIN:VEVENT
DTSTART:20190124T203000Z
DTEND:20190124T213000Z
X-MICROSOFT-CDO-ALLDAYEVENT:FALSE
SUMMARY:Ribbon Cutting Celebration - Gionino's Pizzeria
DESCRIPTION:Join us on Thursday\, January 24\, 2019\, at 3:30 p.m. to welcome Gionino's Pizzeria officially to the Pickerington community!  We will cut the ribbon and join them in celebrating their opening and give them an official welcome!\n\n\n\nRibbon cuttings are open to everyone and we encourage you to come out to support the business\, meet their team\, and celebrate along with them.  \n\n\n\nWe hope to see you there!
X-ALT-DESC;FMTTYPE=text/html:<br />\nJoin us on <strong>Thursday\, January 24\, 2019\,</strong> at <strong>3:30 p.m.</strong> to welcome <strong>Gionino&#39\;s Pizzeria </strong>officially to the Pickerington community!&nbsp\; We will cut the ribbon and join them in celebrating their opening and give them an official welcome!<br />\n<br />\nRibbon cuttings are open to everyone and we encourage you to come out to support the business\, meet their team\, and celebrate along with them.&nbsp\;&nbsp\;<br />\n<br />\nWe hope to see you there!
LOCATION:Gionino's Pizzeria 12983 Stonecreek Dr. Pickerington\, OH (located next to Classics)
UID:e.1451.12657
SEQUENCE:3
DTSTAMP:20260425T203225Z
URL:https://www.pickeringtonchamber.com/events/details/ribbon-cutting-celebration-gionino-s-pizzeria-12657
END:VEVENT

END:VCALENDAR
