BEGIN:VCALENDAR
VERSION:2.0
PRODID:-//ChamberMaster//Event Calendar 2.0//EN
METHOD:PUBLISH
X-PUBLISHED-TTL:P3D
REFRESH-INTERVAL:P3D
CALSCALE:GREGORIAN
BEGIN:VEVENT
DTSTART:20190107T170000Z
DTEND:20190107T180000Z
X-MICROSOFT-CDO-ALLDAYEVENT:FALSE
SUMMARY:Ribbon Cutting & Anniversary Celebration at Derek Abner Insurance!
DESCRIPTION:Join us on Monday\, January 7\, 2019\, as we help Derek Abner Insurance Agency celebrate their One-Year Anniversary with a Ribbon Cutting!  Check out their office and meet their team while enjoying some snacks!\n\n\n\nWe hope to see you there!
X-ALT-DESC;FMTTYPE=text/html:<br />\nJoin us on <strong>Monday\, January 7\, 2019</strong>\, as we help <strong>Derek Abner Insurance Agency</strong> celebrate their <strong>One-Year Anniversary</strong> with a <strong>Ribbon Cutting!&nbsp\;</strong> Check out their office and meet their team while enjoying some snacks!<br />\n<br />\nWe hope to see you there!
LOCATION:Derek Abner Insurance Agency 60 Hill Rd. S Pickerington\, OH
UID:e.1451.12646
SEQUENCE:3
DTSTAMP:20260425T203225Z
URL:https://www.pickeringtonchamber.com/events/details/ribbon-cutting-anniversary-celebration-at-derek-abner-insurance-12646
END:VEVENT

END:VCALENDAR
