BEGIN:VCALENDAR
VERSION:2.0
PRODID:-//ChamberMaster//Event Calendar 2.0//EN
METHOD:PUBLISH
X-PUBLISHED-TTL:P3D
REFRESH-INTERVAL:P3D
CALSCALE:GREGORIAN
BEGIN:VEVENT
DTSTART;VALUE=DATE:20130121
DTEND;VALUE=DATE:20130125
TRANSP:TRANSPARENT
X-MICROSOFT-CDO-ALLDAYEVENT:TRUE
SUMMARY:Restaurant Week
DESCRIPTION:A wonderful four day event with GREAT SPECIALS all week long!\n\n\n\nThe finest in food & fare!  Taste the best our community has to offer with the second annual Restaurant Week\, offered by the Pickerington Area Chamber of Commerce and participating area restaurants.
X-ALT-DESC;FMTTYPE=text/html:A wonderful four day event with GREAT SPECIALS all week long!<br />\n<br />\nThe finest in food &amp\; fare!&nbsp\; Taste the best our community has to offer with the second annual Restaurant Week\, offered by the Pickerington Area Chamber of Commerce and participating area restaurants.<br />\n
LOCATION:Local Area Restaurants including: Coldstone Creamery & Rocky Mountain Chocolate Factory W.g. Grinders Orange Leaf Frozen Yogurt La Fogata Grill Wings To Go The Old Bag of Nails Red Velvet Cafe Skyline Chili UNO Chicago Grill Senior Patron
UID:e.1451.885
SEQUENCE:3
DTSTAMP:20260424T055225Z
URL:https://www.pickeringtonchamber.com/events/details/restaurant-week-01-21-2013-885
END:VEVENT

END:VCALENDAR
