BEGIN:VCALENDAR
VERSION:2.0
PRODID:-//ChamberMaster//Event Calendar 2.0//EN
METHOD:PUBLISH
X-PUBLISHED-TTL:P3D
REFRESH-INTERVAL:P3D
CALSCALE:GREGORIAN
BEGIN:VEVENT
DTSTART:20190531T130000Z
DTEND:20190531T220000Z
X-MICROSOFT-CDO-ALLDAYEVENT:FALSE
SUMMARY:Pop-up summer book sale!!
DESCRIPTION:Line up your next great summer read at the Friends of the Pickerington Public Library special kids/teens summer reading book sale. Get your entire family registered for summer reading and build your home library at the same time!\n\n\n\nKid/Teen books only will be sold at this event.\n\n\n\nAnyone who registers for summer reading will receive a voucher for one free book at the book sale.
X-ALT-DESC;FMTTYPE=text/html:<span style="text-transform:none\;"><span style="font-size:12.0pt\;">Line up your next great summer read at the Friends of the Pickerington Public Library special kids/teens summer reading book sale. Get your entire family registered for summer reading and build your home library at the same time!<br />\n<br />\n<strong>Kid/Teen books only will be sold at this event.</strong></span></span><br />\n<br />\n<span style="text-transform:none\;"><span style="font-size:12.0pt\;">Anyone who registers for summer reading will receive a voucher for one free book at the book sale.</span></span>
LOCATION:Pickerington Public Library 201 Opportunity Way Pickerington\, OH 43147
UID:e.1451.12971
SEQUENCE:3
DTSTAMP:20260425T165705Z
URL:https://www.pickeringtonchamber.com/events/details/pop-up-summer-book-sale-12971
END:VEVENT

END:VCALENDAR
