BEGIN:VCALENDAR
VERSION:2.0
PRODID:-//ChamberMaster//Event Calendar 2.0//EN
METHOD:PUBLISH
X-PUBLISHED-TTL:P3D
REFRESH-INTERVAL:P3D
CALSCALE:GREGORIAN
BEGIN:VEVENT
DTSTART:20190426T230000Z
DTEND:20190427T013000Z
X-MICROSOFT-CDO-ALLDAYEVENT:FALSE
SUMMARY:PCT Presents: Spamalot Auditions
DESCRIPTION:Audition information for Pickerington Community Theatre's summer production of "Spamalot" (unpaid\, non-union)\n\n\n\nAuditions will be held at Epiphany Lutheran Church\, 268 Hill Road North\, Pickerington 43147\n\n\n\nPlease choose one of the following audition dates:\n\nFriday\, April 26th 7:00pm   9:30pm \n\nSaturday\, April 27th 10:00am   2:00pm\n\nSunday\, April 28th 2:00pm   4:00pm Call Backs if needed \n\n\n\nSPECIAL NOTES: We will be in need of many skilled dancers and tap dancers for this production. There are also several opportunties for woman to appear in what may be traditionally male roles. If you absolutely cannot make auditions the scheduled weekend\, please email the director\, Adam Schroeder\, at Adam.Schroeder@PCTshows.com to schedule a separate date (or to audition by video). The show will be cast without regard to race. We need men & women age 16+\n\nAssistant Director: Amanda Tuttle\n\nMusic Director: Sue Laney\n\nChoreographer: Jenny Small\n\n\n\nPerformance Dates (at the WigWam theatre):\n\n8pm Fridays & Saturdays July 12\, 13\, 19\, 20\n\n2pm Sundays July 14 & 21\n\n\n\nTentative Rehearsal Schedule: Friday evenings\, Saturdays 10am -2pm\, Sundays 2pm -5pm\n\nRehearsals are set so that you only need to be there when you are needed.\n\n\n\nThe audition process has some very simple steps:\n\n1) You will be asked to fill out an audition form. You may attach a resume and picture if you wish (it is not required). Please bring a calendar that includes conflicts. . \n\n2) You will have your picture taken and a number will be assigned to you.\n\n3) Be prepared to sing part of a song of your choice (no more than a minute long). A piano is available for use and an accompanist will be provided. Acapella singing or cd accompaniment is also fine. Please choose age appropriate music. A Broadway song is preferable. DO NOT sing a song from Spamalot. \n\n4) If seeking a speaking role\, please be prepared to stay for cold readings from the script. There are many videos of this show on-line for you to check various characters.\n\n5) We will have a simple dance audition (performed in small groups). We are also looking for featured dancers. For chorus roles we only need to see basic movement. \n\n\n\nYou will receive a phone call Saturday evening if you have been called back for a lead role. If you are not called back this does not mean you will not be cast nor does it mean you will not have a speaking role (there are many named roles). Final cast list will be sent via email by Wednesday night\, May 1st and posted on our website.
X-ALT-DESC;FMTTYPE=text/html:<span style="color: rgb(29\, 33\, 41)\; font-family: Helvetica\, Arial\, sans-serif\; font-size: 14px\; white-space: pre-wrap\; background-color: rgb(255\, 255\, 255)\;">Audition information for </span><a href="https://www.facebook.com/PCTShows/" style="color: rgb(54\, 88\, 153)\; cursor: pointer\; text-decoration-line: none\; font-family: Helvetica\, Arial\, sans-serif\; font-size: 14px\; white-space: pre-wrap\; background-color: rgb(255\, 255\, 255)\;" target="_blank">Pickerington Community Theatre</a><span style="color: rgb(29\, 33\, 41)\; font-family: Helvetica\, Arial\, sans-serif\; font-size: 14px\; white-space: pre-wrap\; background-color: rgb(255\, 255\, 255)\;">&#39\;s summer production of &ldquo\;Spamalot&rdquo\; (unpaid\, non-union)</span><br style="color: rgb(29\, 33\, 41)\; font-family: Helvetica\, Arial\, sans-serif\; font-size: 14px\; white-space: pre-wrap\; background-color: rgb(255\, 255\, 255)\;" />\n<br style="color: rgb(29\, 33\, 41)\; font-family: Helvetica\, Arial\, sans-serif\; font-size: 14px\; white-space: pre-wrap\; background-color: rgb(255\, 255\, 255)\;" />\n<span style="color: rgb(29\, 33\, 41)\; font-family: Helvetica\, Arial\, sans-serif\; font-size: 14px\; white-space: pre-wrap\; background-color: rgb(255\, 255\, 255)\;">Auditions will be held at Epiphany Lutheran Church\, 268 Hill Road North\, Pickerington 43147</span><br style="color: rgb(29\, 33\, 41)\; font-family: Helvetica\, Arial\, sans-serif\; font-size: 14px\; white-space: pre-wrap\; background-color: rgb(255\, 255\, 255)\;" />\n<br style="color: rgb(29\, 33\, 41)\; font-family: Helvetica\, Arial\, sans-serif\; font-size: 14px\; white-space: pre-wrap\; background-color: rgb(255\, 255\, 255)\;" />\n<span style="color: rgb(29\, 33\, 41)\; font-family: Helvetica\, Arial\, sans-serif\; font-size: 14px\; white-space: pre-wrap\; background-color: rgb(255\, 255\, 255)\;">Please choose one of the following audition dates:</span><br style="color: rgb(29\, 33\, 41)\; font-family: Helvetica\, Arial\, sans-serif\; font-size: 14px\; white-space: pre-wrap\; background-color: rgb(255\, 255\, 255)\;" />\n<span style="color: rgb(29\, 33\, 41)\; font-family: Helvetica\, Arial\, sans-serif\; font-size: 14px\; white-space: pre-wrap\; background-color: rgb(255\, 255\, 255)\;">Friday\, April 26th 7:00pm &ndash\; 9:30pm </span><br style="color: rgb(29\, 33\, 41)\; font-family: Helvetica\, Arial\, sans-serif\; font-size: 14px\; white-space: pre-wrap\; background-color: rgb(255\, 255\, 255)\;" />\n<span style="color: rgb(29\, 33\, 41)\; font-family: Helvetica\, Arial\, sans-serif\; font-size: 14px\; white-space: pre-wrap\; background-color: rgb(255\, 255\, 255)\;">Saturday\, April 27th 10:00am &ndash\; 2:00pm</span><br style="color: rgb(29\, 33\, 41)\; font-family: Helvetica\, Arial\, sans-serif\; font-size: 14px\; white-space: pre-wrap\; background-color: rgb(255\, 255\, 255)\;" />\n<span style="color: rgb(29\, 33\, 41)\; font-family: Helvetica\, Arial\, sans-serif\; font-size: 14px\; white-space: pre-wrap\; background-color: rgb(255\, 255\, 255)\;">Sunday\, April 28th 2:00pm &ndash\; 4:00pm Call Backs if needed </span><br style="color: rgb(29\, 33\, 41)\; font-family: Helvetica\, Arial\, sans-serif\; font-size: 14px\; white-space: pre-wrap\; background-color: rgb(255\, 255\, 255)\;" />\n<br style="color: rgb(29\, 33\, 41)\; font-family: Helvetica\, Arial\, sans-serif\; font-size: 14px\; white-space: pre-wrap\; background-color: rgb(255\, 255\, 255)\;" />\n<span style="color: rgb(29\, 33\, 41)\; font-family: Helvetica\, Arial\, sans-serif\; font-size: 14px\; white-space: pre-wrap\; background-color: rgb(255\, 255\, 255)\;">SPECIAL NOTES: We will be in need of many skilled dancers and tap dancers for this production. There are also several opportunties for woman to appear in what may be traditionally male roles. If you absolutely cannot make auditions the scheduled weekend\, please email the director\, Adam Schroeder\, at Adam.Schroeder@PCTshows.com to schedule a separate date (or to audition by video). The show will be cast without regard to race. We need men &amp\; women age 16+</span><br style="color: rgb(29\, 33\, 41)\; font-family: Helvetica\, Arial\, sans-serif\; font-size: 14px\; white-space: pre-wrap\; background-color: rgb(255\, 255\, 255)\;" />\n<span style="color: rgb(29\, 33\, 41)\; font-family: Helvetica\, Arial\, sans-serif\; font-size: 14px\; white-space: pre-wrap\; background-color: rgb(255\, 255\, 255)\;">Assistant Director: Amanda Tuttle</span><br style="color: rgb(29\, 33\, 41)\; font-family: Helvetica\, Arial\, sans-serif\; font-size: 14px\; white-space: pre-wrap\; background-color: rgb(255\, 255\, 255)\;" />\n<span style="color: rgb(29\, 33\, 41)\; font-family: Helvetica\, Arial\, sans-serif\; font-size: 14px\; white-space: pre-wrap\; background-color: rgb(255\, 255\, 255)\;">Music Director: Sue Laney</span><br style="color: rgb(29\, 33\, 41)\; font-family: Helvetica\, Arial\, sans-serif\; font-size: 14px\; white-space: pre-wrap\; background-color: rgb(255\, 255\, 255)\;" />\n<span style="color: rgb(29\, 33\, 41)\; font-family: Helvetica\, Arial\, sans-serif\; font-size: 14px\; white-space: pre-wrap\; background-color: rgb(255\, 255\, 255)\;">Choreographer: Jenny Small</span><br style="color: rgb(29\, 33\, 41)\; font-family: Helvetica\, Arial\, sans-serif\; font-size: 14px\; white-space: pre-wrap\; background-color: rgb(255\, 255\, 255)\;" />\n<br style="color: rgb(29\, 33\, 41)\; font-family: Helvetica\, Arial\, sans-serif\; font-size: 14px\; white-space: pre-wrap\; background-color: rgb(255\, 255\, 255)\;" />\n<span style="color: rgb(29\, 33\, 41)\; font-family: Helvetica\, Arial\, sans-serif\; font-size: 14px\; white-space: pre-wrap\; background-color: rgb(255\, 255\, 255)\;">Performance Dates (at the WigWam theatre):</span><br style="color: rgb(29\, 33\, 41)\; font-family: Helvetica\, Arial\, sans-serif\; font-size: 14px\; white-space: pre-wrap\; background-color: rgb(255\, 255\, 255)\;" />\n<span style="color: rgb(29\, 33\, 41)\; font-family: Helvetica\, Arial\, sans-serif\; font-size: 14px\; white-space: pre-wrap\; background-color: rgb(255\, 255\, 255)\;">8pm Fridays &amp\; Saturdays July 12\, 13\, 19\, 20</span><br style="color: rgb(29\, 33\, 41)\; font-family: Helvetica\, Arial\, sans-serif\; font-size: 14px\; white-space: pre-wrap\; background-color: rgb(255\, 255\, 255)\;" />\n<span style="color: rgb(29\, 33\, 41)\; font-family: Helvetica\, Arial\, sans-serif\; font-size: 14px\; white-space: pre-wrap\; background-color: rgb(255\, 255\, 255)\;">2pm Sundays July 14 &amp\; 21</span><br style="color: rgb(29\, 33\, 41)\; font-family: Helvetica\, Arial\, sans-serif\; font-size: 14px\; white-space: pre-wrap\; background-color: rgb(255\, 255\, 255)\;" />\n<br style="color: rgb(29\, 33\, 41)\; font-family: Helvetica\, Arial\, sans-serif\; font-size: 14px\; white-space: pre-wrap\; background-color: rgb(255\, 255\, 255)\;" />\n<span style="color: rgb(29\, 33\, 41)\; font-family: Helvetica\, Arial\, sans-serif\; font-size: 14px\; white-space: pre-wrap\; background-color: rgb(255\, 255\, 255)\;">Tentative Rehearsal Schedule: Friday evenings\, Saturdays 10am -2pm\, Sundays 2pm -5pm</span><br style="color: rgb(29\, 33\, 41)\; font-family: Helvetica\, Arial\, sans-serif\; font-size: 14px\; white-space: pre-wrap\; background-color: rgb(255\, 255\, 255)\;" />\n<span style="color: rgb(29\, 33\, 41)\; font-family: Helvetica\, Arial\, sans-serif\; font-size: 14px\; white-space: pre-wrap\; background-color: rgb(255\, 255\, 255)\;">Rehearsals are set so that you only need to be there when you are needed.</span><br style="color: rgb(29\, 33\, 41)\; font-family: Helvetica\, Arial\, sans-serif\; font-size: 14px\; white-space: pre-wrap\; background-color: rgb(255\, 255\, 255)\;" />\n<br style="color: rgb(29\, 33\, 41)\; font-family: Helvetica\, Arial\, sans-serif\; font-size: 14px\; white-space: pre-wrap\; background-color: rgb(255\, 255\, 255)\;" />\n<span style="color: rgb(29\, 33\, 41)\; font-family: Helvetica\, Arial\, sans-serif\; font-size: 14px\; white-space: pre-wrap\; background-color: rgb(255\, 255\, 255)\;">The audition process has some very simple steps:</span><br style="color: rgb(29\, 33\, 41)\; font-family: Helvetica\, Arial\, sans-serif\; font-size: 14px\; white-space: pre-wrap\; background-color: rgb(255\, 255\, 255)\;" />\n<span style="color: rgb(29\, 33\, 41)\; font-family: Helvetica\, Arial\, sans-serif\; font-size: 14px\; white-space: pre-wrap\; background-color: rgb(255\, 255\, 255)\;">1) You will be asked to fill out an audition form. You may attach a resume and picture if you wish (it is not required). Please bring a calendar that includes conflicts. . </span><br style="color: rgb(29\, 33\, 41)\; font-family: Helvetica\, Arial\, sans-serif\; font-size: 14px\; white-space: pre-wrap\; background-color: rgb(255\, 255\, 255)\;" />\n<span style="color: rgb(29\, 33\, 41)\; font-family: Helvetica\, Arial\, sans-serif\; font-size: 14px\; white-space: pre-wrap\; background-color: rgb(255\, 255\, 255)\;">2) You will have your picture taken and a number will be assigned to you.</span><br style="color: rgb(29\, 33\, 41)\; font-family: Helvetica\, Arial\, sans-serif\; font-size: 14px\; white-space: pre-wrap\; background-color: rgb(255\, 255\, 255)\;" />\n<span style="color: rgb(29\, 33\, 41)\; font-family: Helvetica\, Arial\, sans-serif\; font-size: 14px\; white-space: pre-wrap\; background-color: rgb(255\, 255\, 255)\;">3) Be prepared to sing part of a song of your choice (no more than a minute long). A piano is available for use and an accompanist will be provided. Acapella singing or cd accompaniment is also fine. Please choose age appropriate music. A Broadway song is preferable. DO NOT sing a song from Spamalot. </span><br style="color: rgb(29\, 33\, 41)\; font-family: Helvetica\, Arial\, sans-serif\; font-size: 14px\; white-space: pre-wrap\; background-color: rgb(255\, 255\, 255)\;" />\n<span style="color: rgb(29\, 33\, 41)\; font-family: Helvetica\, Arial\, sans-serif\; font-size: 14px\; white-space: pre-wrap\; background-color: rgb(255\, 255\, 255)\;">4) If seeking a speaking role\, please be prepared to stay for cold readings from the script. There are many videos of this show on-line for you to check various characters.</span><br style="color: rgb(29\, 33\, 41)\; font-family: Helvetica\, Arial\, sans-serif\; font-size: 14px\; white-space: pre-wrap\; background-color: rgb(255\, 255\, 255)\;" />\n<span style="color: rgb(29\, 33\, 41)\; font-family: Helvetica\, Arial\, sans-serif\; font-size: 14px\; white-space: pre-wrap\; background-color: rgb(255\, 255\, 255)\;">5) We will have a simple dance audition (performed in small groups). We are also looking for featured dancers. For chorus roles we only need to see basic movement. </span><br style="color: rgb(29\, 33\, 41)\; font-family: Helvetica\, Arial\, sans-serif\; font-size: 14px\; white-space: pre-wrap\; background-color: rgb(255\, 255\, 255)\;" />\n<br style="color: rgb(29\, 33\, 41)\; font-family: Helvetica\, Arial\, sans-serif\; font-size: 14px\; white-space: pre-wrap\; background-color: rgb(255\, 255\, 255)\;" />\n<span style="color: rgb(29\, 33\, 41)\; font-family: Helvetica\, Arial\, sans-serif\; font-size: 14px\; white-space: pre-wrap\; background-color: rgb(255\, 255\, 255)\;">You will receive a phone call Saturday evening if you have been called back for a lead role. If you are not called back this does not mean you will not be cast nor does it mean you will not have a speaking role (there are many named roles). Final cast list will be sent via email by Wednesday night\, May 1st and posted on our website. </span>
LOCATION:Epiphany Lutheran Church 268 Hill Rd N Pickerington\, OH 43147
UID:e.1451.12711
SEQUENCE:3
DTSTAMP:20260425T182134Z
URL:https://www.pickeringtonchamber.com/events/details/pct-presents-spamalot-auditions-12711
END:VEVENT

END:VCALENDAR
