BEGIN:VCALENDAR
VERSION:2.0
PRODID:-//ChamberMaster//Event Calendar 2.0//EN
METHOD:PUBLISH
X-PUBLISHED-TTL:P3D
REFRESH-INTERVAL:P3D
CALSCALE:GREGORIAN
BEGIN:VEVENT
DTSTART:20200820T183000Z
DTEND:20200820T193000Z
X-MICROSOFT-CDO-ALLDAYEVENT:FALSE
SUMMARY:PACC Connects - Membership 101 & Networking!
DESCRIPTION:OK\, so lots of changes happening\, but we hope you will join us for an afternoon break on Thursday\, August 20th\, at 2:30 p.m. where we will share some Chamber updates\, talk about maximizing your investment (a little 101)\, then move into some networking groups.  Don't worry\, we will go over ALL of this and more during the event.  \n\n\n\nSo\, grab that afternoon cup of coffee and join us for a break from your day!\n\n\n\nWe look forward to seeing you!
X-ALT-DESC;FMTTYPE=text/html:<br />\n<font face="verdana"><span style="font-size: 14px\;">OK\, so lots of changes happening\, but we hope you will join us for an afternoon break on <strong>Thursday\, August 20th\, at 2:30 p.m. </strong>where we will share some <strong>Chamber updates</strong>\, talk about <strong>maximizing your investment </strong>(a little 101)\, then move into some<strong> networking </strong>groups.&nbsp\; Don&#39\;t worry\, we will go over ALL of this and more during the event.&nbsp\;&nbsp\;<br />\n<br />\nSo\, grab that afternoon cup of coffee and join us for a break from your day!<br />\n<br />\nWe look forward to seeing you!</span></font><br />\n<br style="font-family: verdana\; font-size: 14px\;" />\n<br style="font-family: verdana\; font-size: 14px\;" />\n&nbsp\;
LOCATION:This event has moved to virtual! Register and the link will be sent the morning of the event day.
UID:e.1451.13832
SEQUENCE:3
DTSTAMP:20260424T150032Z
URL:https://www.pickeringtonchamber.com/events/details/pacc-connects-membership-101-networking-13832
END:VEVENT

END:VCALENDAR
