BEGIN:VCALENDAR
VERSION:2.0
PRODID:-//ChamberMaster//Event Calendar 2.0//EN
METHOD:PUBLISH
X-PUBLISHED-TTL:P3D
REFRESH-INTERVAL:P3D
CALSCALE:GREGORIAN
BEGIN:VEVENT
DTSTART:20190404T230000Z
DTEND:20190407T180000Z
X-MICROSOFT-CDO-ALLDAYEVENT:FALSE
SUMMARY:Ohio University Lancaster Theatre presents "Jekyll & Hyde: The Musical"
DESCRIPTION:Jekyll & HYDE\, The Musical. The epic struggle between good and evil comes to life on stage in the musical phenomenon\, Jekyll & Hyde. Based on the classic story by Robert Louis Stevenson and featuring a thrilling score of pop rock hits from multi-Grammy- and Tony-nominated Frank Wildhorn and double-Oscar- and Grammy-winning Leslie Bricusse\, Jekyll & Hyde has mesmerized audiences the world over. An evocative tale of two men   one\, a doctor\, passionate and romantic\; the other\, a terrifying madman   and two women   one\, beautiful and trusting\; the other\, beautiful and trusting only herself  both women in love with the same man and both unaware of his dark secret. A devoted man of science\, Dr. Henry Jekyll is driven to find a chemical breakthrough that can solve some of mankind's most challenging medical dilemmas. Rebuffed by the powers that be\, he decides to make himself the subject of his own experimental treatments\, accidentally unleashing his inner demons along with the man that the world comes to know as Mr. Hyde. Conceived for the stage by Steve Cuden & Frank Wildhorn\, Book and Lyrics by LESLIE BRICUSSE\, Music by FRANK WILDHORN\, Orchestrations by Kim Scharnberg\, Arrangements by Jason Howland JEKYLL & HYDE is presented through special arrangement with Music Theatre International (MTI). All authorized performance materials are also supplied by MTI. 421 West 54th Street\, New York\, NY 10019 Phone: 212-541-4684 Fax: 212-397-4684 www.MTIShows.com
X-ALT-DESC;FMTTYPE=text/html:Jekyll &amp\; HYDE\, The Musical. The epic struggle between good and evil comes to life on stage in the musical phenomenon\, Jekyll &amp\; Hyde. Based on the classic story by Robert Louis Stevenson and featuring a thrilling score of pop rock hits from multi-Grammy- and Tony-nominated Frank Wildhorn and double-Oscar- and Grammy-winning Leslie Bricusse\, Jekyll &amp\; Hyde has mesmerized audiences the world over. An evocative tale of two men &ndash\; one\, a doctor\, passionate and romantic\; the other\, a terrifying madman &ndash\; and two women &ndash\; one\, beautiful and trusting\; the other\, beautiful and trusting only herself&ndash\; both women in love with the same man and both unaware of his dark secret. A devoted man of science\, Dr. Henry Jekyll is driven to find a chemical breakthrough that can solve some of mankind&#39\;s most challenging medical dilemmas. Rebuffed by the powers that be\, he decides to make himself the subject of his own experimental treatments\, accidentally unleashing his inner demons along with the man that the world comes to know as Mr. Hyde. Conceived for the stage by Steve Cuden &amp\; Frank Wildhorn\, Book and Lyrics by LESLIE BRICUSSE\, Music by FRANK WILDHORN\, Orchestrations by Kim Scharnberg\, Arrangements by Jason Howland JEKYLL &amp\; HYDE is presented through special arrangement with Music Theatre International (MTI). All authorized performance materials are also supplied by MTI. 421 West 54th Street\, New York\, NY 10019 Phone: 212-541-4684 Fax: 212-397-4684 www.MTIShows.com
LOCATION:Ohio University Lancaster Theatre
UID:e.1451.12402
SEQUENCE:3
DTSTAMP:20260425T182551Z
URL:https://www.pickeringtonchamber.com/events/details/ohio-university-lancaster-theatre-presents-jekyll-hyde-the-musical-12402
END:VEVENT

END:VCALENDAR
