BEGIN:VCALENDAR
VERSION:2.0
PRODID:-//ChamberMaster//Event Calendar 2.0//EN
METHOD:PUBLISH
X-PUBLISHED-TTL:P3D
REFRESH-INTERVAL:P3D
CALSCALE:GREGORIAN
BEGIN:VEVENT
DTSTART:20190306T130000Z
DTEND:20190308T200000Z
X-MICROSOFT-CDO-ALLDAYEVENT:FALSE
SUMMARY:Ohio Safety Congress & Expo - Connecting YOU to Safety & Health!
DESCRIPTION:Save the Date for the 2019 Ohio Safety Congress & Expo\, March 6-8\, 2019.\n\n\n\nFind new ways to make your workplace safer and healthier\n\nDiscover the latest safety gear and services\n\nEarn free continuing education credits\n\nBuild your workplace safety network
X-ALT-DESC;FMTTYPE=text/html:<br />\nSave the Date for the 2019 Ohio Safety Congress &amp\; Expo\, March 6-8\, 2019.<br />\n<br />\nFind new ways to make your workplace safer and healthier<br />\nDiscover the latest safety gear and services<br />\nEarn free continuing education credits<br />\nBuild your workplace safety network<br />\n&nbsp\;
LOCATION:Greater Columbus Convention Center Columbus\, OH
UID:e.1451.12495
SEQUENCE:3
DTSTAMP:20260425T170245Z
URL:https://www.pickeringtonchamber.com/events/details/ohio-safety-congress-expo-connecting-you-to-safety-health-12495
END:VEVENT

END:VCALENDAR
