BEGIN:VCALENDAR
VERSION:2.0
PRODID:-//ChamberMaster//Event Calendar 2.0//EN
METHOD:PUBLISH
X-PUBLISHED-TTL:P3D
REFRESH-INTERVAL:P3D
CALSCALE:GREGORIAN
BEGIN:VEVENT
DTSTART:20190523T120000Z
DTEND:20190523T133000Z
X-MICROSOFT-CDO-ALLDAYEVENT:FALSE
SUMMARY:Morning Brew! - How to Optimize and Grow Your Instagram - SOLD OUT!
DESCRIPTION:THIS EVENT IS NOW SOLD OUT!  \n\n\n\nJoin us on Thursday\, May 23\, 2019\, as Michele Cook\, Owner of Body Ache Escape Massage Center\, shares tips on how to increase your business by using Instagram!  \n\n\n\nDuring this session\, you will learn:\n\n1. How to optimize your instagram page for maximum impact\n\n2. Strategies to grow your instagram\n\n3. Resources that will make your insta-life easier\n\n\n\nIn just six months\, Michele was able to increase her Instagram following from 800 to 10\,300 and has formed many new relationships that have resulted in new clients and referral partners.  Find out what she did to make this happen!
X-ALT-DESC;FMTTYPE=text/html:<br />\n<strong>THIS EVENT IS NOW SOLD OUT!&nbsp\;&nbsp\;</strong><br />\n<br />\nJoin us on <strong>Thursday\, May 23\, 2019</strong>\, as <strong>Michele Cook</strong>\, Owner of Body Ache Escape Massage Center\, shares tips on <strong>how to increase your business by using Instagram!&nbsp\;</strong>&nbsp\;<br />\n<br />\nDuring this session\, you will learn:<br />\n1. How to optimize your instagram page for maximum impact<br />\n2. Strategies to grow your instagram<br clear="all" />\n<span style="font-family:calibri\,sans-serif\;"><span style="font-size:11.0pt\;">3. Resources that will make your insta-life easier<br />\n<br />\nIn just six months\, Michele was able to increase her Instagram following from 800 to 10\,300 and has formed many new relationships that have resulted in new clients and referral partners.&nbsp\; Find out what she did to make this happen!&nbsp\;&nbsp\;</span></span><br />\n<br />\n&nbsp\;
LOCATION:OhioHealth 1010 Refugee Rd. Pickerington (1st Floor Conference Room)
UID:e.1451.12935
SEQUENCE:3
DTSTAMP:20260425T134146Z
URL:https://www.pickeringtonchamber.com/events/details/morning-brew-how-to-optimize-and-grow-your-instagram-sold-out-12935
END:VEVENT

END:VCALENDAR
