BEGIN:VCALENDAR
VERSION:2.0
PRODID:-//ChamberMaster//Event Calendar 2.0//EN
METHOD:PUBLISH
X-PUBLISHED-TTL:P3D
REFRESH-INTERVAL:P3D
CALSCALE:GREGORIAN
BEGIN:VEVENT
DTSTART:20190329T120000Z
DTEND:20190329T130000Z
X-MICROSOFT-CDO-ALLDAYEVENT:FALSE
SUMMARY:Morning Brew! "Cyber Security and YOUR Business"
DESCRIPTION:Join us on Friday\, March 29\, 2019\, as the Business Advisory Council hosts the next Morning Brew! event featuring two speaker who will discuss Cyber Security and YOUR Business!\n\n\n\nAdam Connor is a national cyber liability specialist with Risk Placement Services.  \n\n\n\nSteve Franckhauser\, JD is Senior Director with HBK CPAs & Consultants.\n\n\n\nThis event will cover Cyber and Data Security problems and solutions for the Small Business and will include:\n\n	Cyber and Data security demystified\n	Common problems and risks faced by small business\n	Assessing your needs\n	Prioritizing your remedies\n	Establishing best practices\n	Staying current in a fast paced cyber and data arena
X-ALT-DESC;FMTTYPE=text/html:<br />\nJoin us on Friday\, March 29\, 2019\, as the Business Advisory Council hosts the next Morning Brew! event featuring two speaker who will discuss Cyber Security and YOUR Business!<br />\n<br />\nAdam Connor is a national cyber liability specialist with Risk Placement Services.&nbsp\;&nbsp\;<br />\n<br />\nSteve Franckhauser\, JD is Senior Director with HBK CPAs &amp\; Consultants.<br />\n<br />\nThis event will cover Cyber and Data Security problems and solutions for the Small Business and will include:\n<ul>\n	<li style="margin-left:0in\;">Cyber and Data security demystified</li>\n	<li style="margin-left:0in\;">Common problems and risks faced by small business</li>\n	<li style="margin-left:0in\;">Assessing your needs</li>\n	<li style="margin-left:0in\;">Prioritizing your remedies</li>\n	<li style="margin-left:0in\;">Establishing best practices</li>\n	<li style="margin-left:0in\;">Staying current in a fast paced cyber and data arena</li>\n</ul>\n
LOCATION:OhioHealth 1010 Refugee Rd. (1st Floor Conference Room) Pickerington
UID:e.1451.12804
SEQUENCE:3
DTSTAMP:20260425T165904Z
URL:https://www.pickeringtonchamber.com/events/details/morning-brew-cyber-security-and-your-business-12804
END:VEVENT

END:VCALENDAR
