BEGIN:VCALENDAR
VERSION:2.0
PRODID:-//ChamberMaster//Event Calendar 2.0//EN
METHOD:PUBLISH
X-PUBLISHED-TTL:P3D
REFRESH-INTERVAL:P3D
CALSCALE:GREGORIAN
BEGIN:VEVENT
DTSTART:20190620T153000Z
DTEND:20190620T170000Z
X-MICROSOFT-CDO-ALLDAYEVENT:FALSE
SUMMARY:Monthly Membership Luncheon - Growing Downtown!
DESCRIPTION:Join us on Thursday\, June 20\, 2019\, as Madison Cole\, Communications Manager for the Columbus Downtown Development Corporation\, shares why a strong downtown is crucial for the success of suburban communities.  \n\n\n\nWith a growing number young professionals and empty nesters seeking urban living opportunities\, demand for downtown residences is at an all-time high nationwide. Learn how Downtown Columbus has been able to see 200% growth in the Downtown population since 2000\, buoyed by over $3.25 billion in combined public and private investment. The state capital is now an 18-hour city that features modern residential developments\, cultural attractions and parkland that continue to attract new residents\, workers and visitors.\n\n \n\nKey Takeaways\n\n\n	Hear the best practices and lessons learned in transforming an underutilized downtown space into a vibrant\, usable greenspace.\n	Understand how public and private sectors came together to fund the redevelopment of downtown Columbus \n	Hear how the vision for downtown greenspace has spurred $400 million in private investment to grow Columbus.
X-ALT-DESC;FMTTYPE=text/html:<br />\nJoin us on <strong>Thursday\, June 20\, 2019</strong>\, as <strong>Madison Cole</strong>\, Communications Manager for the Columbus Downtown Development Corporation\, shares why <u><strong>a strong downtown is crucial for the success of suburban communities.&nbsp\;&nbsp\;</strong></u><br />\n<br />\n<span style="color:#44546A\;"><span style="font-family:arial\,sans-serif\;"><span style="font-size:10.0pt\;">With a growing number young professionals and empty nesters seeking urban living opportunities\, demand for downtown residences is at an all-time high nationwide. Learn how Downtown Columbus has been able to see 200% growth in the Downtown population since 2000\, buoyed by over $3.25 billion in combined public and private investment. The state capital is now an 18-hour city that features modern residential developments\, cultural attractions and parkland that continue to attract new residents\, workers and visitors.</span></span></span><br />\n&nbsp\;<br />\n<strong><span style="color:#44546A\;"><span style="font-family:arial\,sans-serif\;"><span style="font-size:10.0pt\;">Key Takeaways</span></span></span></strong>\n\n<ul>\n	<li style="color:#44546A\;margin-left:0in\;"><span style="font-family:arial\,sans-serif\;"><span style="font-size:10.0pt\;">Hear the best practices and lessons learned in transforming an underutilized downtown space into a vibrant\, usable greenspace.</span></span></li>\n	<li style="color:#44546A\;margin-left:0in\;"><span style="font-family:arial\,sans-serif\;"><span style="font-size:10.0pt\;">Understand how public and private sectors came together to fund the redevelopment of downtown Columbus </span></span></li>\n	<li style="color:#44546A\;margin-left:0in\;"><span style="font-family:arial\,sans-serif\;"><span style="font-size:10.0pt\;">Hear how the vision for downtown greenspace has spurred $400 million in private investment to grow Columbus.</span></span></li>\n</ul>\n<br />\n&nbsp\;
LOCATION:Zion Church 5780 Reynoldsburg-Baltimore Rd. Pickerington\, OH
UID:e.1451.12536
SEQUENCE:3
DTSTAMP:20260425T133652Z
URL:https://www.pickeringtonchamber.com/events/details/monthly-membership-luncheon-growing-downtown-12536
END:VEVENT

END:VCALENDAR
