BEGIN:VCALENDAR
VERSION:2.0
PRODID:-//ChamberMaster//Event Calendar 2.0//EN
METHOD:PUBLISH
X-PUBLISHED-TTL:P3D
REFRESH-INTERVAL:P3D
CALSCALE:GREGORIAN
BEGIN:VEVENT
DTSTART:20190221T163000Z
DTEND:20190221T180000Z
X-MICROSOFT-CDO-ALLDAYEVENT:FALSE
SUMMARY:Monthly Membership Luncheon
DESCRIPTION:Join us Thursday\, February 21\, 2019\, the Monthly PACC Membership Luncheon featuring Joe Rotella\, Chief Marketing Officer\, for Delphia Consulting\, LLC who will present "Marketing Across the Generations".\n\n\n\nMarketing is all about raising awareness or even generating demand. The idea is simple\, but reaching your audience is difficult\, especially across a broad audience. How you reach a Millennial can be quite different than how you reach a Boomer. Joe will cover the 7 pillars of marketing and share ways they can be supported by different techniques to reach across the generational divide.\n\n\n\nDuring this luncheon\, you will learn:\n\n	The definition of each generation\n	The 7 pillars of marketing\n	Techniques that support each pillar
X-ALT-DESC;FMTTYPE=text/html:<br />\nJoin us <strong>Thursday\, February 21\, 2019\,</strong> the <strong>Monthly PACC Membership Luncheon</strong> featuring <strong>Joe Rotella\, </strong>Chief Marketing Officer\, for Delphia Consulting\, LLC who will present <strong>&quot\;Marketing Across the Generations&quot\;.</strong><br />\n<br />\n<span style="font-family:calibri\,sans-serif\;"><span style="font-size:11.0pt\;">Marketing is all about raising awareness or even generating demand. The idea is simple\, but reaching your audience is difficult\, especially across a broad audience. How you reach a Millennial can be quite different than how you reach a Boomer. Joe will cover the 7 pillars of marketing and share ways they can be supported by different techniques to reach across the generational divide.<br />\n<br />\nDuring this luncheon\, you will learn:</span></span>\n<ul>\n	<li><span style="font-family:calibri\,sans-serif\;"><span style="font-size:11.0pt\;">The definition of each generation</span></span></li>\n	<li><span style="font-family:calibri\,sans-serif\;"><span style="font-size:11.0pt\;">The 7 pillars of marketing</span></span></li>\n	<li><span style="font-family:calibri\,sans-serif\;"><span style="font-size:11.0pt\;"><span style="font-family:calibri\,sans-serif\;"><span style="font-size:11.0pt\;">Techniques that support each pillar</span></span></span></span></li>\n</ul>\n
LOCATION:Zion Church 5780 Reynoldsburg-Baltimore Rd. Pickerington\, OH
UID:e.1451.12532
SEQUENCE:3
DTSTAMP:20260425T184525Z
URL:https://www.pickeringtonchamber.com/events/details/monthly-membership-luncheon-12532
END:VEVENT

END:VCALENDAR
