BEGIN:VCALENDAR
VERSION:2.0
PRODID:-//ChamberMaster//Event Calendar 2.0//EN
METHOD:PUBLISH
X-PUBLISHED-TTL:P3D
REFRESH-INTERVAL:P3D
CALSCALE:GREGORIAN
BEGIN:VEVENT
DTSTART:20121220T163000Z
DTEND:20121220T180000Z
X-MICROSOFT-CDO-ALLDAYEVENT:FALSE
SUMMARY:Membership Luncheon
DESCRIPTION:Monthly Membership Luncheon\n\n\n\nTopic:  Cliff?  What Cliff? \n\nWoody Winfree from Winfree\, Ruff & Associates will summarize many of the sordid details behind the looming financial disaster we've been hearing about since the Election\; unveiling the facts as well as the fiction about what this Fiscal Cliff is all about - and how we can be prepared.\n\n\n\nIn addition\, other Lucnehon fare includes: \n\n    The Launch of PIckerington TV\n\n    PACC Awards:  \n\n        Business of the Quarter\, New Business of the Quarter\, Community Service\n\n    Performance by Free Spirit Karate Demo Team
X-ALT-DESC;FMTTYPE=text/html:Monthly Membership Luncheon<br />\n<br />\n<strong>Topic:&nbsp\; Cliff?&nbsp\; What Cliff?</strong>&nbsp\;<br />\nWoody Winfree from Winfree\, Ruff &amp\; Associates will summarize many of the sordid details behind the looming financial disaster we&#39\;ve been hearing about since the Election\; unveiling the facts as well as the fiction about what this Fiscal Cliff is all about - and how we can be prepared.<br />\n<br />\nIn addition\, other Lucnehon fare includes:&nbsp\;<br />\n&nbsp\;&nbsp\;&nbsp\;<strong>&nbsp\;The Launch of PIckerington TV<br />\n&nbsp\;&nbsp\;&nbsp\;&nbsp\;PACC Awards:&nbsp\;&nbsp\;</strong><br />\n&nbsp\;&nbsp\;&nbsp\;&nbsp\;&nbsp\;&nbsp\;&nbsp\;&nbsp\;Business of the Quarter\, New Business of the Quarter\, Community Service<br />\n&nbsp\;&nbsp\;<strong>&nbsp\;&nbsp\;Performance by Free Spirit Karate Demo Team</strong>
LOCATION:Pickerington Senior Center 150 Hereford Dr. Pickerington\, OH 43147
UID:e.1451.171
SEQUENCE:3
DTSTAMP:20260424T210159Z
URL:https://www.pickeringtonchamber.com/events/details/membership-luncheon-12-20-2012-171
END:VEVENT

END:VCALENDAR
