BEGIN:VCALENDAR
VERSION:2.0
PRODID:-//ChamberMaster//Event Calendar 2.0//EN
METHOD:PUBLISH
X-PUBLISHED-TTL:P3D
REFRESH-INTERVAL:P3D
CALSCALE:GREGORIAN
BEGIN:VEVENT
DTSTART:20121115T163000Z
DTEND:20121115T180000Z
X-MICROSOFT-CDO-ALLDAYEVENT:FALSE
SUMMARY:Membership Luncheon
DESCRIPTION:Monthly Membership Luncheon\n\nNovember 2012\n\nMarketing U\n\n\n\nIt's all about U!  So grab your pom-poms and get ready to go back to school\, as members from the Chamber Staff\, NetCare IT\, and Creative Design Solutions teach you how to market effectively using Chamber resources.\n\nYour "instructors" will review the many marketing pieces that have been put in place for Chamber members as well as new opportunities and ways to effectively use them to market your company - inexpensively and efficiently!\n\n\n\nIn addition\, a new PACC board member for 2013 will be elected:\n\n\n\nJulie Berman - Mascots & More\n\nAlison Forche - Kristal & Forche Orthodontics\n\nLaura Stewart - Mount Carmel\n\n\n\nEach member business will receive one ballot.  Members may vote for one candidate.
X-ALT-DESC;FMTTYPE=text/html:Monthly Membership Luncheon<br />\nNovember 2012<br />\nMarketing U<br />\n<br />\nIt&#39\;s all about U!&nbsp\; So grab your pom-poms and get ready to go back to school\, as members from the Chamber Staff\, NetCare IT\, and Creative Design Solutions teach you how to market effectively using Chamber resources.<br />\nYour &quot\;instructors&quot\; will review the many marketing pieces that have been put in place for Chamber members as well as new opportunities and ways to effectively use them to market your company - inexpensively and efficiently!<br />\n<br />\nIn addition\, a new PACC board member for 2013&nbsp\;will be elected:<br />\n<br />\nJulie Berman - Mascots &amp\; More<br />\nAlison Forche - Kristal &amp\; Forche Orthodontics<br />\nLaura Stewart - Mount Carmel<br />\n<br />\nEach member business will receive one ballot.&nbsp\; Members may vote for one candidate.&nbsp\;<br />\n
LOCATION:Pickerington Senior Center 150 Hereford Dr. Pickerington\, OH 43147
UID:e.1451.170
SEQUENCE:3
DTSTAMP:20260425T224620Z
URL:https://www.pickeringtonchamber.com/events/details/membership-luncheon-11-15-2012-170
END:VEVENT

END:VCALENDAR
