BEGIN:VCALENDAR
VERSION:2.0
PRODID:-//ChamberMaster//Event Calendar 2.0//EN
METHOD:PUBLISH
X-PUBLISHED-TTL:P3D
REFRESH-INTERVAL:P3D
CALSCALE:GREGORIAN
BEGIN:VEVENT
DTSTART:20131017T153000Z
DTEND:20131017T170000Z
X-MICROSOFT-CDO-ALLDAYEVENT:FALSE
SUMMARY:Membership Luncheon
DESCRIPTION:Monthly Membership Luncheon\n\nAnnual Candidates & Issues Luncheon\n\n\n\nWe've invited the candidates for Pickerington City Council\, Pickerington Local School District\, Violet Township Trustees\, and representatives for the two Issues on the 2013 fall ballot.  Each candidate/representative will be given time to present their platform.  A Q&A session will be held\, time permitting.
X-ALT-DESC;FMTTYPE=text/html:Monthly Membership Luncheon<br />\nAnnual Candidates &amp\; Issues Luncheon<br />\n<br />\nWe&#39\;ve invited the candidates for Pickerington City Council\, Pickerington Local School District\, Violet Township Trustees\, and representatives for the two Issues on the 2013 fall ballot.&nbsp\; Each candidate/representative will be given time to present their platform.&nbsp\; A Q&amp\;A session will be held\, time permitting.&nbsp\; 
LOCATION:Pickerington Senior Center 150 Hereford Dr. Pickerington\, OH 43147
UID:e.1451.181
SEQUENCE:3
DTSTAMP:20260424T233217Z
URL:https://www.pickeringtonchamber.com/events/details/membership-luncheon-10-17-2013-181
END:VEVENT

END:VCALENDAR
