BEGIN:VCALENDAR
VERSION:2.0
PRODID:-//ChamberMaster//Event Calendar 2.0//EN
METHOD:PUBLISH
X-PUBLISHED-TTL:P3D
REFRESH-INTERVAL:P3D
CALSCALE:GREGORIAN
BEGIN:VEVENT
DTSTART:20130516T153000Z
DTEND:20130516T170000Z
X-MICROSOFT-CDO-ALLDAYEVENT:FALSE
SUMMARY:Membership Luncheon
DESCRIPTION:Monthly Membership Luncheon\n\nTopic:  Navigating the Human Resource Minefield\n\n            (What you don't know can hurt you)\n\nThis presentation will cover frequently misunderstood and lesser known employment laws. \n\n	\n		How dress codes & sterotypes can lead to claims of sex discrimination\n	\n		When salaried employees may be entitled to overtime\n	\n		When requiring an employee to work light duty is unlawful\n	\n		Ways to help control your workers' compensation cost\n\n\n	Just to name a few.\n\n	\n\n	Presented by Sara L. Rose\, Esq.  The only attorney in central & southern Ohio to be certified by the Ohio State Bar Association as a specialist in both Labor & employment Law and Workers Compensation Law.
X-ALT-DESC;FMTTYPE=text/html:Monthly Membership Luncheon<br />\n<u>Topic</u>:&nbsp\; <strong>Navigating the Human Resource Minefield<br />\n&nbsp\;&nbsp\;&nbsp\;&nbsp\;&nbsp\;&nbsp\;&nbsp\;&nbsp\;&nbsp\;&nbsp\;&nbsp\;&nbsp\;(What you don&#39\;t know can hurt you)</strong><br />\nThis presentation will cover frequently misunderstood and lesser known employment laws.&nbsp\;\n<ul>\n	<li>\n		How dress codes &amp\; sterotypes can lead to claims of sex discrimination</li>\n	<li>\n		When salaried employees may be entitled to overtime</li>\n	<li>\n		When requiring an employee to work light duty is unlawful</li>\n	<li>\n		Ways to help control your workers&#39\; compensation cost</li>\n</ul>\n<p>\n	Just to name a few.<br />\n	<br />\n	<strong>Presented by Sara L. Rose\, Esq.&nbsp\; <em>The only attorney in central &amp\; southern Ohio to be certified by the Ohio State Bar Association as a specialist in both Labor &amp\; employment Law and Workers Compensation Law.</em></strong></p>\n
LOCATION:Pickerington Senior Center 150 Hereford Dr. Pickerington\, OH 43147
UID:e.1451.176
SEQUENCE:3
DTSTAMP:20260424T131308Z
URL:https://www.pickeringtonchamber.com/events/details/membership-luncheon-05-16-2013-176
END:VEVENT

END:VCALENDAR
