BEGIN:VCALENDAR
VERSION:2.0
PRODID:-//ChamberMaster//Event Calendar 2.0//EN
METHOD:PUBLISH
X-PUBLISHED-TTL:P3D
REFRESH-INTERVAL:P3D
CALSCALE:GREGORIAN
BEGIN:VEVENT
DTSTART:20130418T153000Z
DTEND:20130418T170000Z
X-MICROSOFT-CDO-ALLDAYEVENT:FALSE
SUMMARY:Membership Luncheon
DESCRIPTION:Topic "Community Communication"\n\nPresentation by Commander Matt Delp - City of Pickerington Police Department\n\n\n\nInformation on:\n\n    Nixle\n\n    Alert Fairfield\n\n    Facebook\n\n    Tipsoft (a new anonymous text tip program)\n\n    Twitter\n\nNew feature - Monthly Member Tip
X-ALT-DESC;FMTTYPE=text/html:Topic<em> </em><strong><em>&quot\;Community Communication</em>&quot\;</strong><br />\nPresentation by Commander Matt Delp - City of Pickerington Police Department<br />\n<br />\nInformation on:<br />\n&nbsp\;&nbsp\;&nbsp\;&nbsp\;Nixle<br />\n&nbsp\;&nbsp\;&nbsp\;&nbsp\;Alert Fairfield<br />\n&nbsp\;&nbsp\;&nbsp\;&nbsp\;Facebook<br />\n&nbsp\;&nbsp\;&nbsp\;&nbsp\;Tipsoft (a new anonymous text tip program)<br />\n&nbsp\;&nbsp\;&nbsp\;&nbsp\;Twitter<br />\nNew feature - Monthly Member Tip<br />\n<br />\n
LOCATION:Pickerington Senior Center 150 Hereford Dr. Pickerington\, OH 43147
UID:e.1451.175
SEQUENCE:3
DTSTAMP:20260421T193854Z
URL:https://www.pickeringtonchamber.com/events/details/membership-luncheon-04-18-2013-175
END:VEVENT

END:VCALENDAR
