BEGIN:VCALENDAR
VERSION:2.0
PRODID:-//ChamberMaster//Event Calendar 2.0//EN
METHOD:PUBLISH
X-PUBLISHED-TTL:P3D
REFRESH-INTERVAL:P3D
CALSCALE:GREGORIAN
BEGIN:VEVENT
DTSTART:20130321T153000Z
DTEND:20130321T170000Z
X-MICROSOFT-CDO-ALLDAYEVENT:FALSE
SUMMARY:Membership Luncheon
DESCRIPTION:"State of Pickerington/Violet Township" \n\n	Local elected officials invited to speak:\n\n	Mayor Lee Gray - City of Pickerington\n\n	Terry Dunlap - Violet Township Trustee\n\n	Rob Walker - Superintendent of Pickerington Local School District\n\n	Steve Davis - Commissioner Fairfield County\n\n	Representative Gerald Stebelton\n\n	Senator Troy Balderson\n\n	Congressman Steve Stivers
X-ALT-DESC;FMTTYPE=text/html:<p>\n	<strong>&quot\;State of Pickerington/Violet Township&quot\;&nbsp\;<br />\n	L</strong>ocal elected officials invited to speak:<br />\n	Mayor Lee Gray - City of Pickerington<br />\n	Terry Dunlap - Violet Township Trustee<br />\n	Rob Walker - Superintendent of Pickerington Local School District<br />\n	Steve Davis - Commissioner Fairfield County<br />\n	Representative Gerald Stebelton<br />\n	Senator Troy Balderson<br />\n	Congressman Steve Stivers</p>\n
LOCATION:Pickerington Senior Center 150 Hereford Dr. Pickerington\, OH 43147
UID:e.1451.174
SEQUENCE:3
DTSTAMP:20260424T032358Z
URL:https://www.pickeringtonchamber.com/events/details/membership-luncheon-03-21-2013-174
END:VEVENT

END:VCALENDAR
