BEGIN:VCALENDAR
VERSION:2.0
PRODID:-//ChamberMaster//Event Calendar 2.0//EN
METHOD:PUBLISH
X-PUBLISHED-TTL:P3D
REFRESH-INTERVAL:P3D
CALSCALE:GREGORIAN
BEGIN:VEVENT
DTSTART:20130221T163000Z
DTEND:20130221T180000Z
X-MICROSOFT-CDO-ALLDAYEVENT:FALSE
SUMMARY:Membership Luncheon
DESCRIPTION:'State of the State" \n\n	 \n\n	\n		Overview of Governor office \n	\n		Review of 2012 Accomplishments\n	\n		Goals for 2013\n	\n		State Budget Update\n\n\n	Presenters:\n\n	Nick Gatz\,  Regional Liaison Office of Ohio Governor John R. Kasich \n\n	Merle Madrid\, Director\, Office of Public Liaison For Governor R. Kasich
X-ALT-DESC;FMTTYPE=text/html:<p>\n	<strong>&#39\;State of the State&quot\; </strong><br />\n	&nbsp\;</p>\n<ul>\n	<li>\n		<strong>Overview of Governor office </strong></li>\n	<li>\n		<strong>Review of 2012 Accomplishments</strong></li>\n	<li>\n		<strong>Goals for 2013</strong></li>\n	<li>\n		<strong>State Budget Update</strong></li>\n</ul>\n<p>\n	<u>Presenters</u>:<br />\n	<strong>Nick Gatz\,&nbsp\; Regional Liaison Office of Ohio Governor John R. Kasich&nbsp\;<br />\n	Merle Madrid\, Director\, Office of Public Liaison For Governor R. Kasich</strong></p>\n
LOCATION:Pickerington Senior Center 150 Hereford Dr. Pickerington\, OH 43147
UID:e.1451.173
SEQUENCE:3
DTSTAMP:20260425T123024Z
URL:https://www.pickeringtonchamber.com/events/details/membership-luncheon-02-21-2013-173
END:VEVENT

END:VCALENDAR
