BEGIN:VCALENDAR
VERSION:2.0
PRODID:-//ChamberMaster//Event Calendar 2.0//EN
METHOD:PUBLISH
X-PUBLISHED-TTL:P3D
REFRESH-INTERVAL:P3D
CALSCALE:GREGORIAN
BEGIN:VEVENT
DTSTART:20140116T163000Z
DTEND:20140116T180000Z
X-MICROSOFT-CDO-ALLDAYEVENT:FALSE
SUMMARY:Membership Luncheon
DESCRIPTION:NEW YEAR!  NEW ATTITUDE!\n\n	\n\n	TOPIC:\n\n	THERE IS NO ETHICS IN BUSINESS based on best selling book by John C. Maxwell\n\n	Join our panel\, Dr. Leigh Atkinson - Director of Ohio University Pickerington Center\, Gary Fowler - Executive Director of C3 Church\, Rob Davies\, PT Rehabilitation Manager - Ohio Health and Cheryl Ricketts\, Owner - Competitive Edge HR in a discussion on Business Ethics.\n\n	Audience participation encouraged.
X-ALT-DESC;FMTTYPE=text/html:<p>\n	<strong>NEW YEAR!&nbsp\; NEW ATTITUDE!<br />\n	<br />\n	TOPIC:<br />\n	<u><em>THERE IS NO ETHICS IN BUSINESS</em></u><em><strong> based on best selling book by John C. Maxwell</strong></em></strong><br />\n	Join our panel\, Dr. Leigh Atkinson - Director of&nbsp\;Ohio University Pickerington Center\, Gary Fowler - Executive Director of C3 Church\, Rob Davies\, PT Rehabilitation Manager&nbsp\;- Ohio Health and Cheryl Ricketts\, Owner&nbsp\;- Competitive Edge HR in a discussion on <strong>Business Ethics.<br />\n	Audience participation encouraged.</strong></p>\n
LOCATION:Pickerington Senior Center 150 Hereford Dr. Pickerington\, OH 43147
UID:e.1451.184
SEQUENCE:3
DTSTAMP:20260423T233054Z
URL:https://www.pickeringtonchamber.com/events/details/membership-luncheon-01-16-2014-184
END:VEVENT

END:VCALENDAR
