BEGIN:VCALENDAR
VERSION:2.0
PRODID:-//ChamberMaster//Event Calendar 2.0//EN
METHOD:PUBLISH
X-PUBLISHED-TTL:P3D
REFRESH-INTERVAL:P3D
CALSCALE:GREGORIAN
BEGIN:VEVENT
DTSTART:20190221T233000Z
DTEND:20190222T023000Z
X-MICROSOFT-CDO-ALLDAYEVENT:FALSE
SUMMARY:Make a Wish Fundraiser at Combustion Brewery
DESCRIPTION:Make a Wish Fundraiser AT Combustion Brewery!\n\n\n\n\n\n\n	THURSDAY\, FEBRUARY 21\, 2019\n\n	6:30 PM - 9:30 PM \n\n\n\n1039 HILL RD N\,\n\nPICKERINGTON\, OHIO 43147\n \n\nPHONE: 614-429-5625\n\n\n\n \n\n\n\nJoin us AT Combustion Brewery to support the Make a Wish Foundation!\n\nCost includes a 14 19 wood plank project + one of Combustion's beers!\n\n** A portion of all registrations will go directly to Make a Wish!\n\nCombustion Address:\n\n80 W Church St #101\, Pickerington\, OH 43147\n\nREGISTER HERE!\n\n\n\nPLEASE NOTE: If you would like us to create a new Custom Graphic Design for your project\, an additional fee will apply. Your registration must be submitted at least 72 hours before the workshop. Please order the CUSTOM GRAPHIC DESIGN + Projectticket and include all design details at checkout.\n\n\n\n\n\nplease do not enter anything in this input
X-ALT-DESC;FMTTYPE=text/html:<div background-color:="" id="espresso-event-details-dv" open="" style="margin: 0px\; padding: 0px\; border: 0px\; vertical-align: baseline\; font-size: 14px\; font-family: ">\n<article class="has-excerpt post-16224 espresso_events type-espresso_events status-publish has-post-thumbnail hentry tag-customized-wood-sign tag-wood-sign-class tag-wood-sign-painting-class espresso_event_categories-framed-wood-sign-workshop espresso_event_categories-lazysusan espresso_event_categories-plank-wood-sign-class espresso_event_categories-wood-photo-frame espresso_event_type-single-event" id="post-16224" style="margin: 0px 0px 48px\; padding: 0px\; border: 0px\; vertical-align: baseline\;">\n<div class="espresso-event-header-dv" id="espresso-event-header-dv-16224" style="margin: 0px\; padding: 0px\; border: 0px\; vertical-align: baseline\;">\n<header class="event-header" style="margin: 0px\; padding: 0px\; border: 0px\; vertical-align: baseline\;">\n<h1 class="entry-title" id="event-details-h1-16224" style="margin: 0px 0px 16px\; font-weight: normal\; line-height: 1.3em\; overflow-wrap: break-word\; font-size: 36px\; font-family: Oswald\; padding-bottom: 8px\; border-bottom: 1px solid rgb(51\, 51\, 51)\;"><a href="https://www.arworkshop.com/pickerington/events/make-a-wish-fundraiser-at-combustion-brewery/" style="margin: 0px\; padding: 0px\; border: 0px\; vertical-align: baseline\; color: rgb(46\, 46\, 46)\; text-decoration-line: none\; overflow-wrap: break-word\; outline: none 0px\;">Make a Wish Fundraiser AT Combustion Brewery!</a></h1>\n</header>\n</div>\n\n<div class="espresso-event-wrapper-dv" style="margin: 0px\; padding: 0px\; border: 0px\; vertical-align: baseline\;">\n<div class="event-datetimes" style="margin: 0px\; padding: 0px\; border: 0px\; vertical-align: baseline\; font-size: 16px\; font-family: Oswald\, sans-serif\; text-transform: uppercase\; width: 928px\; float: left\;">\n<ul class="ee-event-datetimes-ul ee-clearfix" id="ee-event-datetimes-ul-16224" style="margin: 0px\; padding: 0px\; border: 0px\; vertical-align: baseline\; list-style-position: initial\; list-style-image: initial\;">\n	<li class="ee-event-datetimes-li ee-event-datetimes-li-DTU" id="ee-event-datetimes-li-455" style="margin: 0px 0px 1em\; padding: 0px\; border: 0px\; vertical-align: baseline\; float: left\; width: 464px\; list-style-type: none\;"><span class="ee-event-datetimes-li-daterange" style="margin: 0px\; padding: 0px\; border: 0px\; vertical-align: baseline\;">THURSDAY\,&nbsp\;FEBRUARY&nbsp\;21\,&nbsp\;2019</span><br />\n	<span class="ee-event-datetimes-li-timerange" style="margin: 0px\; padding: 0px\; border: 0px\; vertical-align: baseline\;">6:30&nbsp\;PM - 9:30&nbsp\;PM</span> <input -webkit-appearance:="" -webkit-font-smoothing:="" 5px="" background:="" border-color:="" border-style:="" border-width:="" class="ee-ical-sbmt" color:="" padding:="" style="margin: 0px\; vertical-align: middle\; font-size: 18px\; line-height: 1\; border-radius: 2px\; cursor: pointer\; font-family: " text-decoration:="" text-transform:="" thirsty="" title="Add to iCal Calendar" type="submit" value="&#61765\;" /></li>\n</ul>\n</div>\n\n<div class="espresso-venue-dv-address" style="margin: 0px 0px 0px 23.1875px\; padding: 0px\; border: 0px\; vertical-align: baseline\; font-size: 16px\; font-family: Oswald\, sans-serif\; text-transform: uppercase\; width: 208.797px\; float: right\;">1039 HILL RD N\,<br />\nPICKERINGTON\, OHIO 43147\n<div class="clear" style="margin: 0px\; padding: 0px\; border: 0px\; vertical-align: baseline\; clear: both\;">&nbsp\;</div>\n\n<p style="margin: -28px 0px 20px\; padding: 0px\; border: 0px\; vertical-align: baseline\; overflow-wrap: break-word\; line-height: 1.66em\;"><span class="small-text" style="margin: 0px\; padding: 0px\; border: 0px\; vertical-align: baseline\; font-size: 0.85em\; line-height: 1.4em\; letter-spacing: 0.25px\;"><span style="margin: 0px\; padding: 0px\; border: 0px\; vertical-align: baseline\; font-size: 15px\;">PHONE:</span></span>&nbsp\;<span itemprop="telephone" style="margin: 0px\; padding: 0px\; border: 0px\; vertical-align: baseline\;">614-429-5625</span></p>\n</div>\n</div>\n\n<div class="clear" style="margin: 0px\; padding: 0px\; border: 0px\; vertical-align: baseline\; clear: both\;">&nbsp\;</div>\n\n<div class="ee-desc" style="margin: 0px\; padding: 0px 34.7969px 0px 0px\; border-width: 0px 3px 0px 0px\; border-top-style: initial\; border-right-style: double\; border-bottom-style: initial\; border-left-style: initial\; border-top-color: initial\; border-right-color: rgb(0\, 0\, 0)\; border-bottom-color: initial\; border-left-color: initial\; border-image: initial\; vertical-align: baseline\; width: 510.391px\; float: left\;">\n<div class="event-content" style="margin: 0px\; padding: 0px\; border: 0px\; vertical-align: baseline\;">\n<p style="margin: 0px 0px 20px\; padding: 0px\; border: 0px\; vertical-align: baseline\; font-size: 16px\; overflow-wrap: break-word\; line-height: 1.66em\;">Join us AT Combustion Brewery to support the Make a Wish Foundation!<br />\nCost includes a 14&times\;19 wood plank project + one of Combustion&rsquo\;s beers!<br />\n** A portion of all registrations will go directly to Make a Wish!</p>\n\n<p style="margin: 0px 0px 20px\; padding: 0px\; border: 0px\; vertical-align: baseline\; font-size: 16px\; overflow-wrap: break-word\; line-height: 1.66em\;">Combustion Address:<br />\n80 W Church St #101\, Pickerington\, OH 43147</p>\n\n<p style="margin: 0px 0px 20px\; padding: 0px\; border: 0px\; vertical-align: baseline\; font-size: 16px\; overflow-wrap: break-word\; color: mediumturquoise\; line-height: 1.66em\;"><a href="https://www.arworkshop.com/pickerington/events/make-a-wish-fundraiser-at-combustion-brewery/"><b style="margin: 0px\; padding: 0px\; border: 0px\; vertical-align: baseline\;">REGISTER HERE!</b></a></p>\n\n<p style="margin: 0px 0px 20px\; padding: 0px\; border: 0px\; vertical-align: baseline\; font-size: 16px\; overflow-wrap: break-word\; line-height: 1.66em\;"><br />\n<b style="margin: 0px\; padding: 0px\; border: 0px\; vertical-align: baseline\;"><i style="margin: 0px\; padding: 0px\; border: 0px\; vertical-align: baseline\;">PLEASE NOTE:</i></b>&nbsp\;If you would like us to create a new&nbsp\;<strong style="margin: 0px\; padding: 0px\; border: 0px\; vertical-align: baseline\;">Custom Graphic Design</strong>&nbsp\;for your project\, an additional fee will apply. Your registration must be submitted at least 72 hours before the workshop. Please order the&nbsp\;<strong style="margin: 0px\; padding: 0px\; border: 0px\; vertical-align: baseline\;">CUSTOM GRAPHIC DESIGN + Project</strong>ticket and include all design details at checkout.</p>\n</div>\n</div>\n\n<div class="event-tickets" style="margin: 0px\; padding: 0px 23.1875px\; border: 0px\; vertical-align: baseline\; width: 540px\; max-width: 540px\; float: right\; clear: both\;">\n<div class="tkt-slctr-tbl-wrap-dv" id="tkt-slctr-tbl-wrap-dv-16224" style="margin: 1em 0px\; padding: 0px\; border: 0px\; vertical-align: baseline\; font-size: 1.1em\;">\n<div class="tkt-slctr-request-processor-dv" style="margin: 0px 0px 0px -999em\; padding: 0px\; border: 0px\; vertical-align: baseline\; font-size: 15.4px\; float: left\; height: 0px\;"><label for="tkt-slctr-request-processor-email-1548353428.2632" style="margin: 0px\; padding: 0px\; border: 0px\; vertical-align: baseline\; font-size: 15.4px\;">please do not enter anything in this input</label><input id="tkt-slctr-request-processor-email-1548353428.2632" name="tkt-slctr-request-processor-email" style="margin: 0px 0px 4px\; vertical-align: middle\; font-size: 13px\; border-radius: 0px\; font-family: inherit\; outline: none\; border-width: 1px\; border-style: solid\; border-color: rgb(227\, 227\, 227)\; color: rgb(118\, 118\, 118)\; padding: 10px 12px\; background-color: rgb(253\, 253\, 253)\;" type="email" value="" /></div>\n</div>\n\n<div class="ticket-selector-submit-btn-wrap" id="ticket-selector-submit-16224-btn-wrap" style="margin: 0px\; padding: 0px\; border: 0px\; vertical-align: baseline\; float: right\; display: inline-block\;"><input 01="" 2016="" 5px="" border-color:="" border-style:="" border-width:="" class="ticket-selector-submit-btn ticket-selector-submit-ajax" color:="" height:="" id="ticket-selector-submit-16224-btn" no-repeat="" padding:="" style="margin: 0px 15px 0px 0px\; vertical-align: middle\; font-size: 0px\; border-radius: 2px\; cursor: pointer\; font-family: thirstyroughregtwo\, cursive\; float: right\; -webkit-appearance: button\; background: url(" text-transform:="" type="submit" uploads="" value="Register Now" width:="" wp-content="" /></div>\n\n<div class="clear" style="margin: 0px\; padding: 0px\; border: 0px\; vertical-align: baseline\; clear: both\;">&nbsp\;</div>\n</div>\n</article>\n</div>\n\n<div background-color:="" class="clear" open="" style="margin: 0px\; padding: 0px\; border: 0px\; vertical-align: baseline\; font-size: 14px\; clear: both\; font-family: ">&nbsp\;</div>\n\n<div background-color:="" class="ee-gallery" open="" style="margin: 0px\; padding: 0px\; border: 0px\; vertical-align: baseline\; font-size: 14px\; font-family: ">\n<div class="event-content" style="margin: 0px\; padding: 0px\; border: 0px\; vertical-align: baseline\;">&nbsp\;</div>\n</div>\n
LOCATION:Combustion Brewery 80 W. Church St. #101 Pickerington\, OH 43147
UID:e.1451.12669
SEQUENCE:3
DTSTAMP:20260425T215522Z
URL:https://www.pickeringtonchamber.com/events/details/make-a-wish-fundraiser-at-combustion-brewery-12669
END:VEVENT

END:VCALENDAR
