BEGIN:VCALENDAR
VERSION:2.0
PRODID:-//ChamberMaster//Event Calendar 2.0//EN
METHOD:PUBLISH
X-PUBLISHED-TTL:P3D
REFRESH-INTERVAL:P3D
CALSCALE:GREGORIAN
BEGIN:VEVENT
DTSTART:20240325T151500Z
DTEND:20240325T161500Z
X-MICROSOFT-CDO-ALLDAYEVENT:FALSE
SUMMARY:Lunch Mob: Old Bag of Nails
DESCRIPTION:Join us at Old Bag of Nails at 11:15 a.m. on Monday\, March 25\, for your lunch break. No cost to participate\, just pay for your own lunch! Bring a friend (someone who might want to join PACC!?). Please register if possible\, so we can provide the restaurant with an estimate of participants.
X-ALT-DESC;FMTTYPE=text/html:Join us at Old Bag of Nails at 11:15 a.m. on Monday\, March 25\, for your lunch break. No cost to participate\, just pay for your own lunch! Bring a friend (someone who might want to join PACC!?). Please register if possible\, so we can provide the restaurant with an estimate of participants.
LOCATION:Old Bag of Nails 797 Hill Rd. N. Pickerington
UID:e.1451.16875
SEQUENCE:3
DTSTAMP:20260422T060538Z
URL:https://www.pickeringtonchamber.com/events/details/lunch-mob-old-bag-of-nails-16875
END:VEVENT

END:VCALENDAR
