BEGIN:VCALENDAR
VERSION:2.0
PRODID:-//ChamberMaster//Event Calendar 2.0//EN
METHOD:PUBLISH
X-PUBLISHED-TTL:P3D
REFRESH-INTERVAL:P3D
CALSCALE:GREGORIAN
BEGIN:VEVENT
DTSTART:20130508T120000Z
DTEND:20130508T160000Z
X-MICROSOFT-CDO-ALLDAYEVENT:FALSE
SUMMARY:LEADS
DESCRIPTION:Pickerington Area Chamber of Commerce\n\nLEADS created in 1990\n\nLeadership Education & Development Seminar (LEADS)\n\nThe LEADS program was created to develop strong\, local leadership.  The Pickerington Area Chamber of Commerce believes it is the community's responsibility to identify and to develop a diverse group of civic leaders to serve this community's future needs.
X-ALT-DESC;FMTTYPE=text/html:Pickerington Area Chamber of Commerce<br />\n<strong>LEADS created in 1990</strong><br />\nLeadership Education &amp\; Development Seminar (<strong>LEADS</strong>)<br />\nThe<strong> LEADS</strong> program was created to develop strong\, local leadership.&nbsp\; The Pickerington Area Chamber of Commerce believes it is the community&#39\;s responsibility to identify and to develop a diverse group of civic leaders to serve this community&#39\;s future needs.&nbsp\; 
LOCATION:February 27 - Ohio University Pickerington Center March 13 - Pickerington Police Department & Pickerington City Hall March 27 - C3 Church April 10 - Violet Township Office and Violet Township Fire Station 2 April 24 - Pickerington Public Library May 8 - Pickerington Central High School May 22 - Pickerington/Violet Township Historical Society May 22 - Graduation
UID:e.1451.894
SEQUENCE:3
DTSTAMP:20260420T211006Z
URL:https://www.pickeringtonchamber.com/events/details/leads-05-08-2013-894
END:VEVENT

END:VCALENDAR
