BEGIN:VCALENDAR
VERSION:2.0
PRODID:-//ChamberMaster//Event Calendar 2.0//EN
METHOD:PUBLISH
X-PUBLISHED-TTL:P3D
REFRESH-INTERVAL:P3D
CALSCALE:GREGORIAN
BEGIN:VEVENT
DTSTART:20190117T163000Z
DTEND:20190117T180000Z
X-MICROSOFT-CDO-ALLDAYEVENT:FALSE
SUMMARY:January Membership Luncheon - "CLICKSAND - How Online Marketing Will Destroy Your Business"
DESCRIPTION:CLICKSAND:  How Online Marketing Will Destroy Your Business\n\n \n\n Join us on Thursday\, January 17\, 2019\, as Bill Troy\, Author\, Speaker\, and Inc. 500 CEO of Civilis Marketing and TroyResearch\, presents\, CLICKSAND: How Online Marketing Will Destroy Your Business.  \n\n \n\nIn highlights from his new book CLICKSAND\, Bill compares giant firms like HubSpot\, Google and LinkedIn as well as local agencies and consultants in towns big and small to snake-oil pitchmen of the 1800's   and he shows how unsuspecting business owners are sucked into their trap every day.  It's a completely different perspective that will WOW you!\n\n \n\nBill Troy is an Inc. 500 CEO and a natural-born contrarian who has helped global brands like Sony\, Disney and Nestle see the world from a different perspective for 25 years.  Bill's book CLICKSAND: How Online Marketing Will Ruin Your Business (And The Unlikely Secret To Saving It)\, is an explosive wake-up call and warning for business owners about the dangers and hypocrisy in online marketing.  As CEO of Civilis Marketing\, Bill and his team help clients drive growth through the company's unique REALationships program\, a systemic process for building and nurturing authentic\, high-value individual business relationships.
X-ALT-DESC;FMTTYPE=text/html:<br />\n<strong><span style="color:#00B050\;"><span style="font-size:20.0pt\;">CLICKSAND:&nbsp\; How Online Marketing Will Destroy Your Business</span></span></strong><br />\n&nbsp\;<br />\n&nbsp\;<span style="font-size:12.0pt\;">Join us on <strong>Thursday\, January 17\, 2019</strong>\, as <strong>Bill Troy</strong>\, Author\, Speaker\, and Inc. 500 CEO of Civilis Marketing and TroyResearch\, presents\, <strong>CLICKSAND: How Online Marketing Will Destroy Your Business.&nbsp\; </strong></span><br />\n&nbsp\;<br />\n<span style="font-size:12.0pt\;">In highlights from his new book CLICKSAND\, Bill compares giant firms like HubSpot\, Google and LinkedIn as well as local agencies and consultants in towns big and small to snake-oil pitchmen of the 1800&rsquo\;s &ndash\; and he shows how unsuspecting business owners are sucked into their trap every day.&nbsp\; It&rsquo\;s a completely different perspective that will WOW you!</span><br />\n&nbsp\;<br />\n<span style="font-size:12.0pt\;">Bill Troy is an Inc. 500 CEO and a natural-born contrarian who has helped global brands like Sony\, Disney and Nestle see the world from a different perspective for 25 years.&nbsp\; Bill&rsquo\;s book <strong><em>CLICKSAND: How Online Marketing Will Ruin Your Business (And The Unlikely Secret To Saving It)\,</em></strong> is an explosive wake-up call and warning for business owners about the dangers and hypocrisy in online marketing.&nbsp\; As CEO of Civilis Marketing\, Bill and his team help clients drive growth through the company&rsquo\;s unique <strong><em>REALationships</em></strong> program\, a systemic process for building and nurturing authentic\, high-value individual business relationships.</span>
LOCATION:Zion Church 5780 Reynoldsburg-Baltimore Rd. Pickerington
UID:e.1451.12493
SEQUENCE:3
DTSTAMP:20260425T203436Z
URL:https://www.pickeringtonchamber.com/events/details/january-membership-luncheon-clicksand-how-online-marketing-will-destroy-your-business-12493
END:VEVENT

END:VCALENDAR
