BEGIN:VCALENDAR
VERSION:2.0
PRODID:-//ChamberMaster//Event Calendar 2.0//EN
METHOD:PUBLISH
X-PUBLISHED-TTL:P3D
REFRESH-INTERVAL:P3D
CALSCALE:GREGORIAN
BEGIN:VEVENT
DTSTART:20190510T153000Z
DTEND:20190510T163000Z
X-MICROSOFT-CDO-ALLDAYEVENT:FALSE
SUMMARY:Grand Re-Opening at Sara's Sewing Shed
DESCRIPTION:Join us on Friday\, May 10\, 2019\, as we celebrate the Grand Re-Opening of Sara's Sewing Shed!  They have moved to a larger space to accomodate their growing business\, so join us as we cut the ribbon and join in their celebration of expansion and growth!\n\n\n\nSara's Sewing Shed is a personally-owned sewing shop specializing in Embroidery\, Screen Pringtin\, Heat Transfer\, Sublimation\, Rhinestones\, and more.  Their work is personalized\, custom\, and catered to whatever your business\, school or organization may need.  \n\n\n\nThe party continues through Saturday from 10 am to 3 pm with more food\, fun and fellowship!
X-ALT-DESC;FMTTYPE=text/html:<br />\nJoin us on <strong>Friday\, May 10\, 2019</strong>\, as we celebrate the <strong>Grand Re-Opening of Sara&#39\;s Sewing Shed!&nbsp\;</strong> They have moved to a larger space to accomodate their growing business\, so join us as we cut the ribbon and join in their celebration of expansion and growth!<br />\n<br />\nSara&#39\;s Sewing Shed is a personally-owned sewing shop specializing in Embroidery\, Screen Pringtin\, Heat Transfer\, Sublimation\, Rhinestones\, and more.&nbsp\; Their work is personalized\, custom\, and catered to whatever your business\, school or organization may need.&nbsp\;&nbsp\;<br />\n<br />\nThe party continues through Saturday from 10 am to 3 pm with more food\, fun and fellowship!
LOCATION:Sara's Sewing Shed 8260 A Howe Industrial Parkway Canal Winchester\, OH
UID:e.1451.12863
SEQUENCE:3
DTSTAMP:20260425T134017Z
URL:https://www.pickeringtonchamber.com/events/details/grand-re-opening-at-sara-s-sewing-shed-12863
END:VEVENT

END:VCALENDAR
