BEGIN:VCALENDAR
VERSION:2.0
PRODID:-//ChamberMaster//Event Calendar 2.0//EN
METHOD:PUBLISH
X-PUBLISHED-TTL:P3D
REFRESH-INTERVAL:P3D
CALSCALE:GREGORIAN
BEGIN:VEVENT
DTSTART:20190301T180000Z
DTEND:20190301T190000Z
X-MICROSOFT-CDO-ALLDAYEVENT:FALSE
SUMMARY:Grand Opening & Ribbon-Cutting at Knockouts Haircuts for Men
DESCRIPTION:Join us for the Grand Opening & Ribbon Cutting of Knockouts Haircuts for Men - Pickerington!\n\n\n\nKnockouts Haircuts for Men is a sports-themed\, full-service salon providing competitively-priced haircuts and other grooming services\, including coloring\, manicures\, pedicures (at some locations)\, facials\, and waxing. We cater specifically to men by offering a pampering experience that is not available at discount walk-in salons and traditional barbershops without charging high-end salon prices. Contact us today to book an appointment!
X-ALT-DESC;FMTTYPE=text/html:<p><span style="color:#000000\;"><span style="font-size:14px\;"><span style="font-family:tahoma\;">Join us for the Grand Opening &amp\; Ribbon Cutting of<strong> Knockouts Haircuts for Men - Pickerington</strong>!<br />\n<br />\n<em><span style="background-color: rgb(255\, 255\, 255)\;">Knockouts Haircuts for Men is a sports-themed\, full-service salon providing competitively-priced haircuts and other grooming services\, including coloring\, manicures\, pedicures (at some locations)\, facials\, and waxing. We cater specifically to men by offering a pampering experience that is not available at discount walk-in salons and traditional barbershops without charging high-end salon prices. Contact us today to book an appointment!</span></em></span></span></span><br />\n<br />\n&nbsp\;</p>\n
LOCATION:Knockouts Haircuts for Men - Pickerington 1260 Hill Rd. N. Pickerington\, OH 43147
UID:e.1451.12727
SEQUENCE:3
DTSTAMP:20260425T201709Z
URL:https://www.pickeringtonchamber.com/events/details/grand-opening-ribbon-cutting-at-knockouts-haircuts-for-men-12727
END:VEVENT

END:VCALENDAR
