BEGIN:VCALENDAR
VERSION:2.0
PRODID:-//ChamberMaster//Event Calendar 2.0//EN
METHOD:PUBLISH
X-PUBLISHED-TTL:P3D
REFRESH-INTERVAL:P3D
CALSCALE:GREGORIAN
BEGIN:VEVENT
DTSTART:20190608T010000Z
DTEND:20190608T030000Z
X-MICROSOFT-CDO-ALLDAYEVENT:FALSE
SUMMARY:Friday Night Flicks
DESCRIPTION:Friday\, June 7\, 2019            Ralph Breaks the Internet\n	Friday\, June 14\, 2019          Small Foot\n	Friday\, June 21\, 2019          The Sandlot\n	Friday\, June 28\, 2019          The Greatest Showman\n	Friday\, July 5\, 2019              NO MOVIE\n	Friday\, July 12\, 2019            The Incredibles 2\n	Friday\, July 19\, 2019            Jurassic Park\n	Friday\, July 26\, 2019            How to Train Your Dragon 3\n	Friday\, August 2\, 2019         The Lego Movie 2\n\nBring a blanket and chairs to enjoy a movie on the white barn with family and friends.
X-ALT-DESC;FMTTYPE=text/html:<ul>\n	<li>Friday\, June 7\, 2019&nbsp\;&nbsp\;&nbsp\;&nbsp\;&nbsp\;&nbsp\;&nbsp\;&nbsp\;&nbsp\; &nbsp\; Ralph Breaks the Internet</li>\n	<li>Friday\, June 14\, 2019&nbsp\;&nbsp\;&nbsp\;&nbsp\;&nbsp\;&nbsp\;&nbsp\;&nbsp\;&nbsp\; Small Foot</li>\n	<li>Friday\, June 21\, 2019&nbsp\; &nbsp\; &nbsp\; &nbsp\; &nbsp\; The Sandlot</li>\n	<li>Friday\, June 28\, 2019&nbsp\; &nbsp\; &nbsp\; &nbsp\; &nbsp\; The Greatest Showman</li>\n	<li>Friday\, July 5\, 2019&nbsp\; &nbsp\; &nbsp\; &nbsp\; &nbsp\; &nbsp\; &nbsp\; NO MOVIE</li>\n	<li>Friday\, July 12\, 2019&nbsp\; &nbsp\; &nbsp\; &nbsp\; &nbsp\; &nbsp\; The Incredibles 2</li>\n	<li>Friday\, July 19\, 2019&nbsp\; &nbsp\; &nbsp\; &nbsp\; &nbsp\;&nbsp\;&nbsp\; Jurassic Park</li>\n	<li>Friday\, July 26\, 2019&nbsp\; &nbsp\; &nbsp\; &nbsp\; &nbsp\; &nbsp\; How to Train Your Dragon 3</li>\n	<li>Friday\, August 2\, 2019&nbsp\; &nbsp\; &nbsp\; &nbsp\; &nbsp\;The Lego Movie 2</li>\n</ul>\nBring a blanket and chairs to enjoy a movie on the white barn with family and friends.
LOCATION:Sycamore Creek Park Amphitheater
UID:e.1451.12914
SEQUENCE:3
DTSTAMP:20260426T025521Z
URL:https://www.pickeringtonchamber.com/events/details/friday-night-flicks-06-07-2019-12914
END:VEVENT

END:VCALENDAR
