BEGIN:VCALENDAR
VERSION:2.0
PRODID:-//ChamberMaster//Event Calendar 2.0//EN
METHOD:PUBLISH
X-PUBLISHED-TTL:P3D
REFRESH-INTERVAL:P3D
CALSCALE:GREGORIAN
BEGIN:VEVENT
DTSTART:20190617T133000Z
DTEND:20190618T023000Z
X-MICROSOFT-CDO-ALLDAYEVENT:FALSE
SUMMARY:Eviction Court Alternatives for Landlords and Property Managers
DESCRIPTION:Eviction Court Alternatives for Landlords and Property Managers\nJoin Civil Dispute Resolution Services\, LLC as they discuss how mediating the terms of an eviction with a tenant can save landlords and property managers time\, money\, and stress by keeping them out of eviction court.
X-ALT-DESC;FMTTYPE=text/html:<h2><span style="font-family:verdana\;">Eviction Court Alternatives for Landlords and Property Managers</span></h2>\n<span style="font-family:verdana\;">Join Civil Dispute Resolution Services\, LLC as they discuss how mediating the terms of an eviction with a tenant can save landlords and property managers time\, money\, and stress by keeping them out of eviction court.&nbsp\;&nbsp\;</span>
LOCATION:Digital Classroom Pickerington Public Library Main 201 Opportunity Way Pickerington\, OH 43147
UID:e.1451.13225
SEQUENCE:3
DTSTAMP:20260426T013834Z
URL:https://www.pickeringtonchamber.com/events/details/eviction-court-alternatives-for-landlords-and-property-managers-13225
END:VEVENT

END:VCALENDAR
