BEGIN:VCALENDAR
VERSION:2.0
PRODID:-//ChamberMaster//Event Calendar 2.0//EN
METHOD:PUBLISH
X-PUBLISHED-TTL:P3D
REFRESH-INTERVAL:P3D
CALSCALE:GREGORIAN
BEGIN:VEVENT
DTSTART:20130409T210000Z
DTEND:20130409T230000Z
X-MICROSOFT-CDO-ALLDAYEVENT:FALSE
SUMMARY:Emily's Entourage
DESCRIPTION:Emily's Entourage is back!\n\n	 \n\n	Emily is suffering from a severe case of aplastic anemia.  All proceeds from this benefit will be donated to help her with medical expenses.\n\n	\n\n	We will have representatives set up selling the following brands:  Thirty-One\, Origami Owl\, Pampered Chef\, Premier Design Jewelry\, Tastefully Simple\, and Scentsy!
X-ALT-DESC;FMTTYPE=text/html:<p>\n	Emily&#39\;s Entourage is back!<br />\n	&nbsp\;</p>\n<p>\n	Emily is suffering from a severe case of aplastic anemia.&nbsp\; All proceeds from this benefit will be donated to help her with medical expenses.<br />\n	<br />\n	We will have representatives set up selling the following brands:&nbsp\; Thirty-One\, Origami Owl\, Pampered Chef\, Premier Design Jewelry\, Tastefully Simple\, and Scentsy!</p>\n
LOCATION:Mascots & More 7845 Refugee Road Pickerington\, OH 43147
UID:e.1451.1122
SEQUENCE:3
DTSTAMP:20260424T111352Z
URL:https://www.pickeringtonchamber.com/events/details/emily-s-entourage-04-09-2013-1122
END:VEVENT

END:VCALENDAR
