BEGIN:VCALENDAR
VERSION:2.0
PRODID:-//ChamberMaster//Event Calendar 2.0//EN
METHOD:PUBLISH
X-PUBLISHED-TTL:P3D
REFRESH-INTERVAL:P3D
CALSCALE:GREGORIAN
BEGIN:VEVENT
DTSTART:20190513T130000Z
DTEND:20190513T160000Z
X-MICROSOFT-CDO-ALLDAYEVENT:FALSE
SUMMARY:Driven Topgolf Tournament
DESCRIPTION:A twist on the age-old golf outing! Invite your friends and co-workers to a morning at Topgolf\, in support of the Driven Foundation. CLICK HERE TO REGISTER: https://bit.ly/2SzVRqK About this Event Take a swing at a new type of golf outing at Topgolf! With golf season around the corner\, it's a great time to practice before getting out on the course. Our golf tournament features a special TopContender Challenge\, which is not available for public play. A full breakfast\, bar\, silent auction\, and prizes will also be included in this morning of networking and play. Register as a single golfer for $75 and you will be placed with a team. Or register a team of six for $450. Bay Sponsorships are available for $500\, which include 6 golfers (value of $450)\, company logo placement on the TVs in the signature room (heavy traffic room that includes the meal buffet\, silent auction and awards presentation). Company logo listed on event webpage with a link to your company site. Company logo listed in event program. Contact Chelsie Holmes at cholmes@staydriven.org or 614-364-6570 to register for the bay sponsorship. Golf Tournament Schedule: 8:45 AM: Check-in and enjoy Topgolf's special filled donut holes and coffee station 9:15 AM: Welcome announcements 9:20 AM: Shotgun start: Tournament begins - Game 1\, TopContender 9:30 AM: Breakfast Brisket Taco Bar! - Scrambled eggs\, house skillet potatoes\, taco toppings and seasonal fruit are all included. 10:30 AM: Game 2 Begins\, TopContender 11:45 AM: Awards 12:00 PM: Event Concludes All golfers will receive a complimentary lifetime membership to Topgolf\, as well as\, bottomless fountain sodas\, iced tea and lemonade during the tournament. DRIVEN FOUNDATION - Our mission is to promote perseverance and build hope\, through a relentless commitment to serve others. We encourage you to visit our website staydriven.org
X-ALT-DESC;FMTTYPE=text/html:A twist on the age-old golf outing! Invite your friends and co-workers to a morning at Topgolf\, in support of the Driven Foundation. CLICK HERE TO REGISTER: https://bit.ly/2SzVRqK About this Event Take a swing at a new type of golf outing at Topgolf! With golf season around the corner\, it&#39\;s a great time to practice before getting out on the course. Our golf tournament features a special TopContender Challenge\, which is not available for public play. A full breakfast\, bar\, silent auction\, and prizes will also be included in this morning of networking and play. Register as a single golfer for $75 and you will be placed with a team. Or register a team of six for $450. Bay Sponsorships are available for $500\, which include 6 golfers (value of $450)\, company logo placement on the TVs in the signature room (heavy traffic room that includes the meal buffet\, silent auction and awards presentation). Company logo listed on event webpage with a link to your company site. Company logo listed in event program. Contact Chelsie Holmes at cholmes@staydriven.org or 614-364-6570 to register for the bay sponsorship. Golf Tournament Schedule: 8:45 AM: Check-in and enjoy Topgolf&#39\;s special filled donut holes and coffee station 9:15 AM: Welcome announcements 9:20 AM: Shotgun start: Tournament begins - Game 1\, TopContender 9:30 AM: Breakfast Brisket Taco Bar! - Scrambled eggs\, house skillet potatoes\, taco toppings and seasonal fruit are all included. 10:30 AM: Game 2 Begins\, TopContender 11:45 AM: Awards 12:00 PM: Event Concludes All golfers will receive a complimentary lifetime membership to Topgolf\, as well as\, bottomless fountain sodas\, iced tea and lemonade during the tournament. DRIVEN FOUNDATION - Our mission is to promote perseverance and build hope\, through a relentless commitment to serve others. We encourage you to visit our website staydriven.org
LOCATION:Topgolf 2000 Ikea Way Columbus\, OH 43240
UID:e.1451.12710
SEQUENCE:3
DTSTAMP:20260420T210632Z
URL:https://www.pickeringtonchamber.com/events/details/driven-topgolf-tournament-12710
END:VEVENT

END:VCALENDAR
