BEGIN:VCALENDAR
VERSION:2.0
PRODID:-//ChamberMaster//Event Calendar 2.0//EN
METHOD:PUBLISH
X-PUBLISHED-TTL:P3D
REFRESH-INTERVAL:P3D
CALSCALE:GREGORIAN
BEGIN:VEVENT
DTSTART;VALUE=DATE:20130405
DTEND;VALUE=DATE:20130406
TRANSP:TRANSPARENT
X-MICROSOFT-CDO-ALLDAYEVENT:TRUE
SUMMARY:"Dough Raiser Weekend" at UNO
DESCRIPTION:UNO will donate 20% of your check to help the Pickerington-Violet Township Historical Society Museum acquire\, preserve and display local historical artifacts. A coupon is required and can be obtained by emailing pickhistsociety@hotmail.com or phoning 614-382-5989.
X-ALT-DESC;FMTTYPE=text/html:UNO will donate 20% of your check to help the Pickerington-Violet Township Historical Society Museum acquire\, preserve and display local historical artifacts. A coupon is required and can be obtained by emailing <a href="mailto:pickhistsociety@hotmail.com">pickhistsociety@hotmail.com</a> or phoning 614-382-5989.
LOCATION:1720 Hill Road North Pickerington\, OH 43147
UID:e.1451.907
SEQUENCE:3
DTSTAMP:20260423T093210Z
URL:https://www.pickeringtonchamber.com/events/details/dough-raiser-weekend-at-uno-04-05-2013-907
END:VEVENT

END:VCALENDAR
