BEGIN:VCALENDAR
VERSION:2.0
PRODID:-//ChamberMaster//Event Calendar 2.0//EN
METHOD:PUBLISH
X-PUBLISHED-TTL:P3D
REFRESH-INTERVAL:P3D
CALSCALE:GREGORIAN
BEGIN:VEVENT
DTSTART:20190224T210000Z
DTEND:20190224T233000Z
X-MICROSOFT-CDO-ALLDAYEVENT:FALSE
SUMMARY:{Chunky Knit} BLANKETS & BREWS! AT BREW DOG!
DESCRIPTION:{Chunky Knit} BLANKETS & BREWS! AT BREW DOG!\n\n\n\n\n\n\n	SUNDAY\, FEBRUARY 24\, 2019\n\n	4:00 PM - 6:30 PM  \n\n\n\n1039 HILL RD N\,\n\nPICKERINGTON\, OHIO 43147\n \n\nPHONE: 614-429-5625\n\n\n\n \n\n\n\nJoin us AT BREW DOG for Blankets & Brews!!\n\nADDRESS:  96 Gender Rd\, Canal Winchester\, OH 43110\n\nWe will guide you step by step through the hand knitting process to create a super cozy\, one-of-a-kind chunky knit blanket AND enjoy one of Brew Dogs famous brews!\n\nAll materials are provided. The blanket requires no needles or knitting experience! You will get 140 yards of chunky yarn. PLEASE NOTE: color choices are very limited and will be first come\, first serve to choose your color!\n\n\n	Cost includes all blanket materials + 1 drink!\n\n\n** No coupons or promotion codes or refunds are permitted for this specialty event.
X-ALT-DESC;FMTTYPE=text/html:<div class="espresso-event-header-dv" id="espresso-event-header-dv-16085" style="margin: 0px\; padding: 0px\; border: 0px\; vertical-align: baseline\; font-size: 14px\; font-family: &quot\;Open Sans&quot\;\; background-color: rgb(255\, 255\, 255)\;">\n<header class="event-header" style="margin: 0px\; padding: 0px\; border: 0px\; vertical-align: baseline\;">\n<h1 class="entry-title" id="event-details-h1-16085" style="margin: 0px 0px 16px\; font-weight: normal\; line-height: 1.3em\; overflow-wrap: break-word\; font-size: 36px\; font-family: Oswald\; padding-bottom: 8px\; border-bottom: 1px solid rgb(51\, 51\, 51)\;"><a href="https://www.arworkshop.com/pickerington/events/brews-chunky-knit-blankets-at-brew-dog/" style="margin: 0px\; padding: 0px\; border: 0px\; vertical-align: baseline\; color: rgb(46\, 46\, 46)\; text-decoration-line: none\; overflow-wrap: break-word\; outline: none 0px\;">{Chunky Knit} BLANKETS &amp\; BREWS! AT BREW DOG!</a></h1>\n</header>\n</div>\n\n<div class="espresso-event-wrapper-dv" style="margin: 0px\; padding: 0px\; border: 0px\; vertical-align: baseline\; font-size: 14px\; font-family: &quot\;Open Sans&quot\;\; background-color: rgb(255\, 255\, 255)\;">\n<div class="event-datetimes" style="margin: 0px\; padding: 0px\; border: 0px\; vertical-align: baseline\; font-size: 16px\; font-family: Oswald\, sans-serif\; text-transform: uppercase\; width: 928px\; float: left\;">\n<ul class="ee-event-datetimes-ul ee-clearfix" id="ee-event-datetimes-ul-16085" style="margin: 0px\; padding: 0px\; border: 0px\; vertical-align: baseline\; list-style-position: initial\; list-style-image: initial\;">\n	<li class="ee-event-datetimes-li ee-event-datetimes-li-DTU" id="ee-event-datetimes-li-445" style="margin: 0px 0px 1em\; padding: 0px\; border: 0px\; vertical-align: baseline\; float: left\; width: 464px\; list-style-type: none\;"><span class="ee-event-datetimes-li-daterange" style="margin: 0px\; padding: 0px\; border: 0px\; vertical-align: baseline\;">SUNDAY\,&nbsp\;FEBRUARY&nbsp\;24\,&nbsp\;2019</span><br />\n	<span class="ee-event-datetimes-li-timerange" style="margin: 0px\; padding: 0px\; border: 0px\; vertical-align: baseline\;">4:00&nbsp\;PM - 6:30&nbsp\;PM</span> <input class="ee-ical-sbmt" style="margin: 0px\; vertical-align: middle\; font-size: 18px\; line-height: 1\; border-radius: 2px\; cursor: pointer\; font-family: &quot\;Thirsty Rough&quot\;\, cursive\; text-decoration: inherit\; -webkit-font-smoothing: antialiased\; padding: 5px 20px\; text-transform: lowercase\; -webkit-appearance: button\; background: rgb(0\, 0\, 0)\; color: rgb(255\, 255\, 255)\; border-width: 0px\; border-style: initial\; border-color: initial\;" title="Add to iCal Calendar" type="submit" value="&#61765\;" />&nbsp\;</li>\n</ul>\n</div>\n\n<div class="espresso-venue-dv-address" style="margin: 0px 0px 0px 23.1875px\; padding: 0px\; border: 0px\; vertical-align: baseline\; font-size: 16px\; font-family: Oswald\, sans-serif\; text-transform: uppercase\; width: 208.797px\; float: right\;">1039 HILL RD N\,<br />\nPICKERINGTON\, OHIO 43147\n<div class="clear" style="margin: 0px\; padding: 0px\; border: 0px\; vertical-align: baseline\; clear: both\;">&nbsp\;</div>\n\n<p style="margin: -28px 0px 20px\; padding: 0px\; border: 0px\; vertical-align: baseline\; overflow-wrap: break-word\; line-height: 1.66em\;"><span class="small-text" style="margin: 0px\; padding: 0px\; border: 0px\; vertical-align: baseline\; font-size: 0.85em\; line-height: 1.4em\; letter-spacing: 0.25px\;"><span style="margin: 0px\; padding: 0px\; border: 0px\; vertical-align: baseline\; font-size: 15px\;">PHONE:</span></span>&nbsp\;<span itemprop="telephone" style="margin: 0px\; padding: 0px\; border: 0px\; vertical-align: baseline\;">614-429-5625</span></p>\n</div>\n</div>\n\n<div class="clear" style="margin: 0px\; padding: 0px\; border: 0px\; vertical-align: baseline\; font-size: 14px\; clear: both\; font-family: &quot\;Open Sans&quot\;\; background-color: rgb(255\, 255\, 255)\;">&nbsp\;</div>\n\n<div class="ee-desc" style="margin: 0px\; padding: 0px 34.7969px 0px 0px\; border-width: 0px 3px 0px 0px\; border-top-style: initial\; border-right-style: double\; border-bottom-style: initial\; border-left-style: initial\; border-top-color: initial\; border-right-color: rgb(0\, 0\, 0)\; border-bottom-color: initial\; border-left-color: initial\; border-image: initial\; vertical-align: baseline\; font-size: 14px\; width: 510.391px\; float: left\; font-family: &quot\;Open Sans&quot\;\; background-color: rgb(255\, 255\, 255)\;">\n<div class="event-content" style="margin: 0px\; padding: 0px\; border: 0px\; vertical-align: baseline\;">\n<p style="margin: 0px 0px 20px\; padding: 0px\; border: 0px\; vertical-align: baseline\; font-size: 16px\; overflow-wrap: break-word\; line-height: 1.66em\;">Join us AT BREW DOG for Blankets &amp\; Brews!!</p>\n\n<p style="margin: 0px 0px 20px\; padding: 0px\; border: 0px\; vertical-align: baseline\; font-size: 16px\; overflow-wrap: break-word\; line-height: 1.66em\;">ADDRESS:&nbsp\;&nbsp\;<span class="LrzXr" style="margin: 0px\; padding: 0px\; border: 0px\; vertical-align: baseline\;">96 Gender Rd\, Canal Winchester\, OH 43110</span></p>\n\n<p style="margin: 0px 0px 20px\; padding: 0px\; border: 0px\; vertical-align: baseline\; font-size: 16px\; overflow-wrap: break-word\; line-height: 1.66em\;">We will guide you step by step through the hand knitting process to create a super cozy\, one-of-a-kind chunky knit blanket AND enjoy one of Brew Dogs famous brews!</p>\n\n<p style="margin: 0px 0px 20px\; padding: 0px\; border: 0px\; vertical-align: baseline\; font-size: 16px\; overflow-wrap: break-word\; line-height: 1.66em\;">All materials are provided. The blanket requires no needles or knitting experience! You will get 140 yards of chunky yarn. PLEASE NOTE: color choices are very limited and will be first come\, first serve to choose your color!</p>\n\n<ul style="margin: 0px 0px 1em 1.5em\; padding: 0px\; border: 0px\; vertical-align: baseline\; list-style-position: initial\; list-style-image: initial\;">\n	<li style="margin: 0px 0px 0px 0.85em\; padding: 0px\; border: 0px\; vertical-align: baseline\;">Cost includes all blanket materials + 1 drink!</li>\n</ul>\n\n<p style="margin: 0px 0px 20px\; padding: 0px\; border: 0px\; vertical-align: baseline\; font-size: 16px\; overflow-wrap: break-word\; line-height: 1.66em\;">** No coupons or promotion codes or refunds are permitted for this specialty event.</p>\n\n<div class="ee-gallery" style="margin: 0px\; padding: 0px\; border: 0px\; vertical-align: baseline\; font-size: 14px\; font-family: &quot\;Open Sans&quot\;\; background-color: rgb(255\, 255\, 255)\;">\n<div class="event-content" style="margin: 0px\; padding: 0px\; border: 0px\; vertical-align: baseline\;">\n<div style="margin: 0px 0px 0px 0.85em\; padding: 0px\; border: 0px\; vertical-align: baseline\;">&nbsp\;</div>\n</div>\n</div>\n</div>\n</div>\n
LOCATION:Brew Dog 96 Gender Rd Canal Winchester\, OH 43110
UID:e.1451.12673
SEQUENCE:3
DTSTAMP:20260425T232255Z
URL:https://www.pickeringtonchamber.com/events/details/chunky-knit-blankets-brews-at-brew-dog-12673
END:VEVENT

END:VCALENDAR
