BEGIN:VCALENDAR
VERSION:2.0
PRODID:-//ChamberMaster//Event Calendar 2.0//EN
METHOD:PUBLISH
X-PUBLISHED-TTL:P3D
REFRESH-INTERVAL:P3D
CALSCALE:GREGORIAN
BEGIN:VEVENT
DTSTART:20190520T123000Z
DTEND:20190521T200000Z
X-MICROSOFT-CDO-ALLDAYEVENT:FALSE
SUMMARY:Business Acceleration Bootcamp
DESCRIPTION:You came to the business world to make money and control your own future. However\, decisions that you make can get tricky\, as life does. At this event you will learn how to attract the right people to your team\, make every month a profitable month\, and so much more!\n\n \n\n\n	\n		\n			Read More
X-ALT-DESC;FMTTYPE=text/html:<p class="bard-text-block" style="margin-top:9.75pt\;margin-right:0in\;margin-bottom:\n9.75pt\;margin-left:0in"><span style="font-size:10.5pt\;font-family:&quot\;Helvetica&quot\;\,sans-serif\;\ncolor:#343434">You came to the business world to make money and control your own future. However\, decisions that you make can get tricky\, as life does. At this event you will learn how to attract the right people to your team\, make every month a profitable month\, and so much more!<o:p></o:p></span><br />\n&nbsp\;</p>\n\n<table align="center" border="0" cellpadding="0" cellspacing="0" style="border-collapse:collapse\;">\n	<tbody>\n		<tr>\n			<td style="background:#A41E0E\;padding:12.0pt 12.0pt 12.0pt 12.0pt\;"><span style="color:white\;"><span style="font-size:12.0pt\;"><a href="https://is-tracking-link-api-prod.appspot.com/api/v1/click/5315176669118464/6324897104003072" target="_blank"><strong><span style="background:#A41E0E\;text-decoration:none\;text-underline:none\;"><span style="color:white\;"><span style="font-family:helvetica\,sans-serif\;">Read More</span></span></span></strong></a></span></span></td>\n		</tr>\n	</tbody>\n</table>\n\n<div style="clear:both\;">&nbsp\;</div>\n\n<p class="bard-text-block" style="margin-top:9.75pt\;margin-right:0in\;margin-bottom:\n9.75pt\;margin-left:0in"><span style="font-size:10.5pt\;font-family:&quot\;Helvetica&quot\;\,sans-serif\;\ncolor:#343434"><o:p></o:p></span></p>\n
LOCATION:Buji ActionCOACH The Tobin Center 8233 Howe Industrial Parkway Canal Winchester\, OH 43110
UID:e.1451.13322
SEQUENCE:3
DTSTAMP:20260420T182149Z
URL:https://www.pickeringtonchamber.com/events/details/business-acceleration-bootcamp-13322
END:VEVENT

END:VCALENDAR
