BEGIN:VCALENDAR
VERSION:2.0
PRODID:-//ChamberMaster//Event Calendar 2.0//EN
METHOD:PUBLISH
X-PUBLISHED-TTL:P3D
REFRESH-INTERVAL:P3D
CALSCALE:GREGORIAN
BEGIN:VEVENT
DTSTART:20130424T223000Z
DTEND:20130424T223000Z
X-MICROSOFT-CDO-ALLDAYEVENT:FALSE
SUMMARY:Autism 101
DESCRIPTION:Join us for an evening of information\, support and community as we host the Autism Society of Central Ohio's presentation of 'Autism 101' in our support of Autism Awareness month. This event is open to individuals with Autism\, their families\, friends and anyone interested in learning more about Autism.
X-ALT-DESC;FMTTYPE=text/html:Join us for an evening of information\, support and community as we host the Autism Society of Central Ohio&#39\;s presentation of &#39\;Autism 101&#39\; in our support of Autism Awareness month. This event is open to individuals with Autism\, their&nbsp\;families\, friends and anyone interested in learning more about Autism.
LOCATION:The Northwest Center 820 Refugee Road Pickerington
UID:e.1451.1123
SEQUENCE:3
DTSTAMP:20260424T111248Z
URL:https://www.pickeringtonchamber.com/events/details/autism-101-04-24-2013-1123
END:VEVENT

END:VCALENDAR
